BEGIN:VCALENDAR
VERSION:2.0
PRODID:-//ChamberMaster//Event Calendar 2.0//EN
METHOD:PUBLISH
X-PUBLISHED-TTL:P3D
REFRESH-INTERVAL:P3D
CALSCALE:GREGORIAN
BEGIN:VEVENT
DTSTART:20240208T131500Z
DTEND:20240208T143000Z
X-MICROSOFT-CDO-ALLDAYEVENT:FALSE
SUMMARY:Workshop: How to Grow Your Business Digitally - February 8\, 2024
DESCRIPTION:Back by popular demand\, Ashley Nutter\, Owner/Founder of Handcrafted Marketing Solutions\, will be expanding upon her Let's Get Digital workshop from last May with this more in-depth session on How to Grow Your Business Digitally!\n\n\n\nDuring this workshop we will explore:\n\n\n	Search Engine Optimization (SEO)\n	Social Media Marketing\n	Email Marketing Campaigns\n\n\n**Cancellations after February 1\, 2024 will not be refunded as reservations have been made in your name.\n\n \n\n*IT IS POSSIBLE AT ANY OF OUR CHAMBER EVENTS WE WILL BE TAKING PHOTOS AND/OR VIDEOING\, AND THAT YOU MAY BE FEATURED IN THESE PHOTOS/VIDEOS. THESE PHOTOS/VIDEOS ARE FOR THE USE OF THE VENICE AREA CHAMBER OF COMMERCE ONLY AND COULD POSSIBLY BE FEATURED ON OUR SOCIAL MEDIA ACCOUNTS\, ON OUR WEBSITE\, AND/OR IN THE CHAMBER'S ADVERTISEMENTS AND PROMOTIONAL MATERIALS.
X-ALT-DESC;FMTTYPE=text/html:<p style="text-align: justify\;">Back by popular demand\, Ashley Nutter\, Owner/Founder of Handcrafted Marketing Solutions\, will be expanding upon her <em>Let&#39\;s Get Digital</em> workshop from last May with this more in-depth session on <strong>How to Grow Your Business Digitally!</strong><br />\n<br />\n<strong>During this workshop we will explore:</strong></p>\n\n<ul>\n	<li>Search Engine Optimization (SEO)</li>\n	<li>Social Media Marketing</li>\n	<li>Email Marketing Campaigns</li>\n</ul>\n\n<p><em><strong>**Cancellations after February 1\, 2024&nbsp\;will not be refunded as reservations have been made in your name.</strong></em></p>\n\n<p>&nbsp\;</p>\n\n<p style="text-align: justify\;"><span style="font-size:12px\;"><strong>*IT IS POSSIBLE AT ANY OF OUR CHAMBER EVENTS WE WILL BE TAKING PHOTOS AND/OR VIDEOING\, AND THAT YOU MAY BE FEATURED IN THESE PHOTOS/VIDEOS. THESE PHOTOS/VIDEOS ARE FOR THE USE OF THE VENICE AREA CHAMBER OF COMMERCE ONLY AND COULD POSSIBLY BE FEATURED ON OUR SOCIAL MEDIA ACCOUNTS\, ON OUR WEBSITE\, AND/OR IN THE CHAMBER&#39\;S ADVERTISEMENTS AND PROMOTIONAL MATERIALS.</strong></span></p>\n
LOCATION:Venice Area Chamber of Commerce 597 S Tamiami Trail Venice\, FL 34285
UID:e.3379.8356
SEQUENCE:3
DTSTAMP:20260419T132239Z
URL:https://business.venicechamber.com/events/details/workshop-how-to-grow-your-business-digitally-february-8-2024-8356
END:VEVENT

END:VCALENDAR
