BEGIN:VCALENDAR
VERSION:2.0
PRODID:-//ChamberMaster//Event Calendar 2.0//EN
METHOD:PUBLISH
X-PUBLISHED-TTL:P3D
REFRESH-INTERVAL:P3D
CALSCALE:GREGORIAN
BEGIN:VEVENT
DTSTART:20240404T121500Z
DTEND:20240404T133000Z
X-MICROSOFT-CDO-ALLDAYEVENT:FALSE
SUMMARY:Workshop: Creating a Positive Workplace Culture - April 4\, 2024
DESCRIPTION:Tommie Brode\, President of Venice Solutions Group will be discussing workplace culture\, including what creates culture and best practices in achieving a positive workplace.  \n\n\n\nDuring this workshop she will cover:\n\n\n	Define workplace culture and understand what creates it\n	Understand best practices in creating a positive workplace \n	Practice real life workplace scenarios related to communication and workplace culture\n\n\n**Cancellations after March 28\, 2024 will not be refunded as reservations have been made in your name.\n\n*IT IS POSSIBLE AT ANY OF OUR CHAMBER EVENTS WE WILL BE TAKING PHOTOS AND/OR VIDEOING\, AND THAT YOU MAY BE FEATURED IN THESE PHOTOS/VIDEOS. THESE PHOTOS/VIDEOS ARE FOR THE USE OF THE VENICE AREA CHAMBER OF COMMERCE ONLY AND COULD POSSIBLY BE FEATURED ON OUR SOCIAL MEDIA ACCOUNTS\, ON OUR WEBSITE\, AND/OR IN THE CHAMBER'S ADVERTISEMENTS AND PROMOTIONAL MATERIALS.
X-ALT-DESC;FMTTYPE=text/html:<p style="text-align: justify\;">Tommie Brode\, President of Venice Solutions Group will be discussing workplace culture\, including what creates culture and best practices in achieving a positive workplace.&nbsp\;&nbsp\;<br />\n<br />\n<strong>During this workshop she will cover:</strong></p>\n\n<ul>\n	<li>Define workplace culture and understand what creates it</li>\n	<li>Understand best practices in creating a positive workplace&nbsp\;</li>\n	<li>Practice real life workplace scenarios related to communication and workplace culture</li>\n</ul>\n\n<p><em><strong>**Cancellations after March 28\, 2024&nbsp\;will not be refunded as reservations have been made in your name.</strong></em></p>\n\n<p><span style="font-size:12px\;"><strong>*IT IS POSSIBLE AT ANY OF OUR CHAMBER EVENTS WE WILL BE TAKING PHOTOS AND/OR VIDEOING\, AND THAT YOU MAY BE FEATURED IN THESE PHOTOS/VIDEOS. THESE PHOTOS/VIDEOS ARE FOR THE USE OF THE VENICE AREA CHAMBER OF COMMERCE ONLY AND COULD POSSIBLY BE FEATURED ON OUR SOCIAL MEDIA ACCOUNTS\, ON OUR WEBSITE\, AND/OR IN THE CHAMBER&#39\;S ADVERTISEMENTS AND PROMOTIONAL MATERIALS.</strong></span></p>\n
LOCATION:Venice Area Chamber of Commerce 597 S Tamiami Trail Venice\, FL 34285
UID:e.3379.8420
SEQUENCE:3
DTSTAMP:20260424T160132Z
URL:https://business.venicechamber.com/events/details/workshop-creating-a-positive-workplace-culture-april-4-2024-8420
END:VEVENT

END:VCALENDAR
