BEGIN:VCALENDAR
VERSION:2.0
PRODID:-//ChamberMaster//Event Calendar 2.0//EN
METHOD:PUBLISH
X-PUBLISHED-TTL:P3D
REFRESH-INTERVAL:P3D
CALSCALE:GREGORIAN
BEGIN:VEVENT
DTSTART:20220419T150000Z
DTEND:20220419T170000Z
X-MICROSOFT-CDO-ALLDAYEVENT:FALSE
SUMMARY:Women Empowering Women Luncheon - SOLD OUT!
DESCRIPTION:"Cultivating Authentic Connections"\n\n\n\nConnection isn't something that happens passively\, it requires intention and action. Join us for an interactive experience led by Game On Nation's Erin Watson\, Director of Client Experience\, to gain tools to build authentic connections and utilize and grow your unique strengths\, while actively creating an environment where collaboration\, trust\, and respect can thrive. During this time\, you'll experience the value of embracing each other's differences and relying on shared experiences to help create a community that demonstrates the power of "I've got your back."\n\n\n\nRegistration fees:\n\n$60 for Individuals\n\n$500 for Table Sponsor with 6 seats\n\n\n\n\n\n*IT IS POSSIBLE AT ANY OF OUR CHAMBER EVENTS WE WILL BE TAKING PHOTOS AND/OR VIDEOING\, AND THAT YOU MAY BE FEATURED IN THESE PHOTOS/VIDEOS.  THESE PHOTOS/VIDEOS ARE FOR THE USE OF THE VENICE AREA CHAMBER OF COMMERCE ONLY AND COULD POSSIBLY BE FEATURED ON OUR SOCIAL MEDIA ACCOUNTS\, ON OUR WEBSITE\, AND/OR IN THE CHAMBER'S ADVERTISEMENTS AND PROMOTIONAL MATERIALS.
X-ALT-DESC;FMTTYPE=text/html:<div style="text-align: justify\;"><span style="font-size: 14px\;"><b><span style="font-size:20px\;">&quot\;Cultivating Authentic Connections&quot\;</span><br />\n<br />\n<em>Connection isn&#39\;t something that happens passively\, it requires intention and action. Join us for an interactive experience led by Game On Nation&#39\;s Erin Watson\, Director of Client Experience\, to gain tools to build authentic connections and utilize and grow your unique strengths\, while actively creating an environment where collaboration\, trust\, and respect can thrive. During this time\, you&#39\;ll experience the value of embracing each other&#39\;s differences and relying on shared experiences to help create a community that demonstrates the power of &quot\;I&#39\;ve got your back.&quot\;</em></b></span><br />\n<br />\n<span style="font-size:14px\;"><strong>Registration fees:</strong></span><br />\n<span style="font-size:14px\;"><strong>$60 for Individuals<br />\n$500 for Table Sponsor with 6 seats</strong></span><br />\n<br />\n<br />\n<strong><em><span style="font-size:12px\;">*IT IS POSSIBLE AT ANY OF OUR CHAMBER EVENTS WE WILL BE TAKING PHOTOS AND/OR VIDEOING\, AND THAT YOU MAY BE FEATURED IN THESE PHOTOS/VIDEOS.&nbsp\; THESE PHOTOS/VIDEOS ARE FOR THE USE OF THE VENICE AREA CHAMBER OF COMMERCE ONLY AND COULD POSSIBLY BE FEATURED ON OUR SOCIAL MEDIA ACCOUNTS\, ON OUR WEBSITE\, AND/OR IN THE CHAMBER&#39\;S ADVERTISEMENTS AND PROMOTIONAL MATERIALS.</span></em></strong></div>\n
LOCATION:Venetian River Club 502 Veneto Boulevard North Venice\, FL 34275 We will be following CDC Guidelines. The venue is asking all non-vaccinated guests to wear masks.
UID:e.3379.6552
SEQUENCE:3
DTSTAMP:20260419T213033Z
URL:https://business.venicechamber.com/events/details/women-empowering-women-luncheon-sold-out-6552
END:VEVENT

END:VCALENDAR
