BEGIN:VCALENDAR
VERSION:2.0
PRODID:-//ChamberMaster//Event Calendar 2.0//EN
METHOD:PUBLISH
X-PUBLISHED-TTL:P3D
REFRESH-INTERVAL:P3D
CALSCALE:GREGORIAN
BEGIN:VEVENT
DTSTART:20220330T210000Z
DTEND:20220330T233000Z
X-MICROSOFT-CDO-ALLDAYEVENT:FALSE
SUMMARY:Wise Guys 2022
DESCRIPTION:Wise Guys - An Event Specific for Men!\n\n\n\nCovering Topics Just for Men:\n\n\n	Insurance: David Joyner\, Joyner Family Insurance\n	Real Estate: William McComb\, Esq.\, Berlin Patten Ebling\, PLLC\, Attorneys At Law\n	Health: Dr. Daniel Deems\, FYZICAL Therapy & Balance Centers\n\nWe will be following CDC Guidelines.  Space is Limited!  Register Now!\n\n \n\n*You must preregister for this event\, no walk ins.  \n\n\n\n*IT IS POSSIBLE AT ANY OF OUR CHAMBER EVENTS WE WILL BE TAKING PHOTOS AND/OR VIDEOING\, AND THAT YOU MAY BE FEATURED IN THESE PHOTOS/VIDEOS. THESE PHOTOS/VIDEOS ARE FOR THE USE OF THE VENICE AREA CHAMBER OF COMMERCE ONLY AND COULD POSSIBLY BE FEATURED ON OUR SOCIAL MEDIA ACCOUNTS\, ON OUR WEBSITE\, AND/OR IN THE CHAMBER?S ADVERTISEMENTS AND PROMOTIONAL MATERIALS.
X-ALT-DESC;FMTTYPE=text/html:<p><span style="font-size:18px\;"><strong>Wise Guys -&nbsp\;An Event Specific for Men!</strong><br />\n<br />\nCovering Topics Just for Men:</span></p>\n\n<ul>\n	<li><span style="font-size:18px\;">Insurance: David Joyner\, Joyner Family Insurance</span></li>\n	<li><span style="font-size:18px\;">Real Estate: William McComb\, Esq.\, Berlin Patten Ebling\, PLLC\, Attorneys At Law</span></li>\n	<li><span style="font-size: 18px\;">Health: Dr. Daniel Deems\,</span>&nbsp\;<span style="font-size:18px\;">FYZICAL Therapy &amp\; Balance Centers</span></li>\n</ul>\n<span style="font-size: 18px\;"><strong>We will be following CDC Guidelines.&nbsp\;&nbsp\;Space is Limited!&nbsp\; Register Now!</strong><br />\n&nbsp\;</span><br />\n<em>*You must preregister for this event\, no walk ins.&nbsp\;&nbsp\;</em>\n\n<p><br />\n<em><span style="font-size: 9px\;"><span style="color: rgb(0\, 0\, 0)\; font-family: Montserrat\, Helvetica\, Arial\, Lucida\, sans-serif\; font-weight: 700\; letter-spacing: 2px\; text-align: center\; text-transform: uppercase\;">*IT IS POSSIBLE AT ANY OF OUR CHAMBER EVENTS WE WILL BE TAKING PHOTOS AND/OR VIDEOING\, AND THAT YOU MAY BE FEATURED IN THESE PHOTOS/VIDEOS. THESE PHOTOS/VIDEOS ARE FOR THE USE OF THE VENICE AREA CHAMBER OF COMMERCE ONLY AND COULD POSSIBLY BE FEATURED ON OUR SOCIAL MEDIA ACCOUNTS\, ON OUR WEBSITE\, AND/OR IN THE CHAMBER?S ADVERTISEMENTS AND PROMOTIONAL MATERIALS.</span></span></em></p>\n
LOCATION:Venice Area Chamber of Commerce 597 Tamiami Trail South Venice FL 34285
UID:e.3379.6554
SEQUENCE:3
DTSTAMP:20260419T175537Z
URL:https://business.venicechamber.com/events/details/wise-guys-2022-6554
END:VEVENT

END:VCALENDAR
