BEGIN:VCALENDAR
VERSION:2.0
PRODID:-//ChamberMaster//Event Calendar 2.0//EN
METHOD:PUBLISH
X-PUBLISHED-TTL:P3D
REFRESH-INTERVAL:P3D
CALSCALE:GREGORIAN
BEGIN:VEVENT
DTSTART:20181114T124500Z
DTEND:20181114T140000Z
X-MICROSOFT-CDO-ALLDAYEVENT:FALSE
SUMMARY:Wake Up! Venice - November 2018
DESCRIPTION:Join us for our monthly business meeting where we discuss the latest initiatives and actions of your Chamber while enjoying a cup of coffee and continental breakfast.  Wake Up Venice provides you an opportunity to meet other businesses\, New Members\, Committee Chairs\, Ambassadors and Board members.
X-ALT-DESC;FMTTYPE=text/html:<p>Join us for our monthly business meeting where we discuss the latest initiatives and actions of your Chamber while enjoying a cup of coffee and continental breakfast.&nbsp\; Wake Up Venice provides you an opportunity to meet other businesses\, New Members\, Committee Chairs\, Ambassadors and Board members.<br />\n&nbsp\;</p>\n
LOCATION:Daiquiri Deck Raw Bar 300 West Venice Ave \, Venice\, FL 34285
UID:e.3379.979
SEQUENCE:3
DTSTAMP:20260426T033519Z
URL:https://business.venicechamber.com/events/details/wake-up-venice-november-2018-11-14-2018-979
END:VEVENT

END:VCALENDAR
