BEGIN:VCALENDAR
VERSION:2.0
PRODID:-//ChamberMaster//Event Calendar 2.0//EN
METHOD:PUBLISH
X-PUBLISHED-TTL:P3D
REFRESH-INTERVAL:P3D
CALSCALE:GREGORIAN
BEGIN:VEVENT
DTSTART:20190116T124500Z
DTEND:20190116T140000Z
X-MICROSOFT-CDO-ALLDAYEVENT:FALSE
SUMMARY:Wake Up! Venice - January 2019
DESCRIPTION:Join us for our monthly business meeting while enjoying a cup of coffee and continental breakfast.  Providing you with an opportunity to meet other businesses\, Committee Chairs and Board members.
X-ALT-DESC;FMTTYPE=text/html:<p><span style="font-size: 18px\;">Join us for our monthly business meeting while enjoying a cup of coffee and continental breakfast.&nbsp\; Providing you with an opportunity to meet other businesses\, Committee Chairs&nbsp\;and Board members.</span></p>\n
LOCATION:Boys and Girls Club of Sarasota County - Venice 920 Gulf Coast Blvd. Venice FL 34285
UID:e.3379.1093
SEQUENCE:3
DTSTAMP:20260425T222225Z
URL:https://business.venicechamber.com/events/details/wake-up-venice-january-2019-1093
END:VEVENT

END:VCALENDAR
