BEGIN:VCALENDAR
VERSION:2.0
PRODID:-//ChamberMaster//Event Calendar 2.0//EN
METHOD:PUBLISH
X-PUBLISHED-TTL:P3D
REFRESH-INTERVAL:P3D
CALSCALE:GREGORIAN
BEGIN:VEVENT
DTSTART:20181219T124500Z
DTEND:20181219T140000Z
X-MICROSOFT-CDO-ALLDAYEVENT:FALSE
SUMMARY:Wake Up! Venice - December 2018
DESCRIPTION:Join us for our monthly business meeting while enjoying a cup of coffee and continental breakfast.  Providing you with an opportunity to meet other businesses\, Committee Chairs\, Ambassadors and Board members.
X-ALT-DESC;FMTTYPE=text/html:<p><span style="font-size:18px\;">Join us for our monthly business meeting while enjoying a cup of coffee and continental breakfast.&nbsp\; Providing you with an opportunity to meet other businesses\, Committee Chairs\, Ambassadors and Board members.</span><br />\n&nbsp\;</p>\n
LOCATION:SKY Family YMCA 701 Center Rd Venice\, FL 34285
UID:e.3379.1083
SEQUENCE:3
DTSTAMP:20260426T000524Z
URL:https://business.venicechamber.com/events/details/wake-up-venice-december-2018-1083
END:VEVENT

END:VCALENDAR
