BEGIN:VCALENDAR
VERSION:2.0
PRODID:-//ChamberMaster//Event Calendar 2.0//EN
METHOD:PUBLISH
X-PUBLISHED-TTL:P3D
REFRESH-INTERVAL:P3D
CALSCALE:GREGORIAN
BEGIN:VEVENT
DTSTART:20190625T200000Z
DTEND:20190625T220000Z
X-MICROSOFT-CDO-ALLDAYEVENT:FALSE
SUMMARY:Visit Sarasota County Venice Visitor Center Opening
DESCRIPTION:We are pleased to introduce the tools and advantages you have throughout the year!
X-ALT-DESC;FMTTYPE=text/html:We are pleased to introduce the tools and advantages you have throughout the year!&nbsp\;&nbsp\;
LOCATION:Venice Area Chamber of Commerce 597 Tamiami Trail South Venice\, FL 34285 597 Tamiami Trail S
UID:e.3379.1293
SEQUENCE:3
DTSTAMP:20260425T140403Z
URL:https://business.venicechamber.com/events/details/visit-sarasota-county-venice-visitor-center-opening-1293
END:VEVENT

END:VCALENDAR
