BEGIN:VCALENDAR
VERSION:2.0
PRODID:-//ChamberMaster//Event Calendar 2.0//EN
METHOD:PUBLISH
X-PUBLISHED-TTL:P3D
REFRESH-INTERVAL:P3D
CALSCALE:GREGORIAN
BEGIN:VEVENT
DTSTART:20200409T130000Z
DTEND:20200409T140000Z
X-MICROSOFT-CDO-ALLDAYEVENT:FALSE
SUMMARY:Virtual Network April 9\, 2020
DESCRIPTION:Come network with us and give your 2 minute commercial while at your computer or cell phone!  Sponsorship Opportunity Available! *contact Charleen Myers for more information
X-ALT-DESC;FMTTYPE=text/html:<span style="font-size: 18px\;">Come network with us and give your 2 minute commercial while at your computer or cell phone!&nbsp\; Sponsorship Opportunity Available!&nbsp\;</span><em style="font-size: 18px\;">*contact Charleen Myers for more information</em>
LOCATION:Venice Area Chamber of Commerce 597 Tamiami Trail S Venice FL 34285
UID:e.3379.1891
SEQUENCE:3
DTSTAMP:20260424T221008Z
URL:https://business.venicechamber.com/events/details/virtual-network-april-9-2020-1891
END:VEVENT

END:VCALENDAR
