BEGIN:VCALENDAR
VERSION:2.0
PRODID:-//ChamberMaster//Event Calendar 2.0//EN
METHOD:PUBLISH
X-PUBLISHED-TTL:P3D
REFRESH-INTERVAL:P3D
CALSCALE:GREGORIAN
BEGIN:VEVENT
DTSTART:20200427T160000Z
DTEND:20200427T170000Z
X-MICROSOFT-CDO-ALLDAYEVENT:FALSE
SUMMARY:Virtual Monday Meet - Principal Jerry Frimmel
DESCRIPTION:Join us for the Virtual Monday Meet!  Special Guest Jerry Frimmel\, Principal of Venice Christian School will be giving Homeschooling Tips for parents who are now working from home with their children. \n\n\n\nThis is open to all Chamber members.  Bring your own lunch and join us while at your computer or cell phone!
X-ALT-DESC;FMTTYPE=text/html:<span style="font-size: 18px\;">Join us for the Virtual Monday Meet!&nbsp\; <strong>Special Guest Jerry Frimmel\, Principal of Venice Christian School</strong> will be giving Homeschooling Tips for parents who are now working from home with their children.&nbsp\;<br />\n<br />\nThis is open to all Chamber members.&nbsp\; Bring your own lunch and join us&nbsp\;</span><span style="font-size: 18px\;">while at your computer or cell phone!&nbsp\;&nbsp\;</span>
LOCATION:Venice Area Chamber of Commerce 597 Tamiami Trail S Venice FL 34285
UID:e.3379.1896
SEQUENCE:3
DTSTAMP:20260424T221629Z
URL:https://business.venicechamber.com/events/details/virtual-monday-meet-principal-jerry-frimmel-1896
END:VEVENT

END:VCALENDAR
