BEGIN:VCALENDAR
VERSION:2.0
PRODID:-//ChamberMaster//Event Calendar 2.0//EN
METHOD:PUBLISH
X-PUBLISHED-TTL:P3D
REFRESH-INTERVAL:P3D
CALSCALE:GREGORIAN
BEGIN:VEVENT
DTSTART:20200504T160000Z
DTEND:20200504T170000Z
X-MICROSOFT-CDO-ALLDAYEVENT:FALSE
SUMMARY:Virtual Monday Meet - Kenneth Kinzie
DESCRIPTION:Join us for the Virtual Monday Meet!  Special Guest Kenneth Kinzie Vice President - Grief Education and Support Services for Tidewell Hospice will be discussing "Coping with Stress in Times of the Corona Virus".  \n\n\n\nThis is open to all Chamber members.  Bring your own lunch and join us while at your computer or cell phone!
X-ALT-DESC;FMTTYPE=text/html:<span style="font-size:18px\;">Join us for the Virtual Monday Meet!&nbsp\;&nbsp\;<strong>Special Guest Kenneth Kinzie Vice President - Grief Education and Support Services for Tidewell Hospice&nbsp\;</strong>will be discussing &quot\;Coping with Stress in Times of the Corona Virus&quot\;.&nbsp\;&nbsp\;</span><br />\n<br />\n<span style="font-size:18px\;">This is open to all Chamber members.&nbsp\; Bring your own lunch and join us&nbsp\;while at your computer or cell phone!&nbsp\;&nbsp\;</span>
LOCATION:Venice Area Chamber of Commerce 597 Tamiami Trail S Venice FL 34285
UID:e.3379.1904
SEQUENCE:3
DTSTAMP:20260424T202501Z
URL:https://business.venicechamber.com/events/details/virtual-monday-meet-kenneth-kinzie-1904
END:VEVENT

END:VCALENDAR
