BEGIN:VCALENDAR
VERSION:2.0
PRODID:-//ChamberMaster//Event Calendar 2.0//EN
METHOD:PUBLISH
X-PUBLISHED-TTL:P3D
REFRESH-INTERVAL:P3D
CALSCALE:GREGORIAN
BEGIN:VEVENT
DTSTART:20200518T160000Z
DTEND:20200518T170000Z
X-MICROSOFT-CDO-ALLDAYEVENT:FALSE
SUMMARY:Virtual Monday Meet - FourThought Private Wealth
DESCRIPTION:Please  join us to hear Scott Pinkerton with FourThought Private Wealth discuss the local economic environment and business best practices during a crisis. \n\n \n\nWe will also have special guest speaker Patrick Baumann the former treasurer of Harris Corporation (a Fortune 500 company) discussing managing bank covenants\, managing payment structures\, revisiting retirement plan obligations and revisiting insurance costs. \n\n \n\nThis is open to all Chamber members.  Bring your own lunch and join us while at your computer or cell phone!
X-ALT-DESC;FMTTYPE=text/html:<span style="font-size: 18px\;"><span style="font-family: arial\;">Please&nbsp\; join us to hear<strong>&nbsp\;Scott Pinkerton with FourThought Private Wealth&nbsp\;</strong>discuss the local economic environment and business best practices during a crisis.&nbsp\;<br />\n&nbsp\;<br />\nWe will also have&nbsp\;<strong>special guest speaker Patrick Baumann the former treasurer of Harris Corporation (a Fortune 500 company)&nbsp\;</strong>discussing managing bank covenants\, managing payment structures\, revisiting retirement plan obligations and revisiting insurance costs.&nbsp\;<br />\n&nbsp\;</span></span><br />\n<span style="font-size: 18px\;">This is open to all Chamber members.&nbsp\; Bring your own lunch and join us&nbsp\;while at your computer or cell phone!&nbsp\;&nbsp\;</span>
LOCATION:Venice Area Chamber of Commerce 597 Tamiami Trail S Venice FL 34285
UID:e.3379.1909
SEQUENCE:3
DTSTAMP:20260424T221105Z
URL:https://business.venicechamber.com/events/details/virtual-monday-meet-fourthought-private-wealth-1909
END:VEVENT

END:VCALENDAR
