BEGIN:VCALENDAR
VERSION:2.0
PRODID:-//ChamberMaster//Event Calendar 2.0//EN
METHOD:PUBLISH
X-PUBLISHED-TTL:P3D
REFRESH-INTERVAL:P3D
CALSCALE:GREGORIAN
BEGIN:VEVENT
DTSTART:20200511T160000Z
DTEND:20200511T170000Z
X-MICROSOFT-CDO-ALLDAYEVENT:FALSE
SUMMARY:Virtual Monday Meet - First International Title
DESCRIPTION:Join us in this virtual training presented by Angela Balsinger-Snyder with First International Title and start running ADS that work! \n\n\n\nWant to learn how to build brand equity and reach audiences in your market?  How to promote your business on Facebook for as little as $10? \n\nFacebook and Instagram are the platforms to be advertising on and in this class we will teach you EFFECTIVE strategies and HOW to work your way through Ads Manager to SET UP these ads.  This is not your typical Facebook Ads class!\n\n\n\nThis is open to all Chamber members.  Bring your own lunch and join us while at your computer or cell phone!
X-ALT-DESC;FMTTYPE=text/html:<span style="font-size:18px\;"><span style="font-family:arial\;"><span style="background:white\;"><span style="color:#1D2129\;">Join us in this virtual training presented by <strong>Angela Balsinger-Snyder with First International Title</strong> and start running ADS that work!&nbsp\;<br />\n<br />\nWant to learn how to build brand equity and reach audiences in your market?&nbsp\; How to promote your business on Facebook for as little as $10? </span></span><br />\n<span style="background:white\;"><span style="color:#1D2129\;">Facebook and Instagram are the platforms to be advertising on and in this class we will teach you EFFECTIVE strategies and HOW to work your way through Ads Manager to SET UP these ads.&nbsp\;&nbsp\;</span></span></span></span><span style="font-size:18px\;"><span style="font-family:arial\;"><span style="color:#1D2129\;"><span style="background:white\;">This is not your typical Facebook Ads class!</span></span></span></span><br />\n<br />\n<span style="font-size: 18px\;">This is open to all Chamber members.&nbsp\; Bring your own lunch and join us&nbsp\;while at your computer or cell phone!&nbsp\;&nbsp\;</span>
LOCATION:Venice Area Chamber of Commerce 597 Tamiami Trail S Venice FL 34285
UID:e.3379.1910
SEQUENCE:3
DTSTAMP:20260424T203924Z
URL:https://business.venicechamber.com/events/details/virtual-monday-meet-first-international-title-1910
END:VEVENT

END:VCALENDAR
