BEGIN:VCALENDAR
VERSION:2.0
PRODID:-//ChamberMaster//Event Calendar 2.0//EN
METHOD:PUBLISH
X-PUBLISHED-TTL:P3D
REFRESH-INTERVAL:P3D
CALSCALE:GREGORIAN
BEGIN:VEVENT
DTSTART:20200420T160000Z
DTEND:20200420T170000Z
X-MICROSOFT-CDO-ALLDAYEVENT:FALSE
SUMMARY:Virtual Monday Meet
DESCRIPTION:Stay connected with the Virtual Monday Meet!  This is open to all members to stay connected and hear all of the resources your chamber has to offer!   Bring your own lunch and join us while at your computer or cell phone!  Sponsorship Opportunity Available! *contact Charleen Myers for more information
X-ALT-DESC;FMTTYPE=text/html:<span style="font-size: 18px\;">Stay connected with the Virtual Monday Meet!&nbsp\; This is open to all members to stay connected and hear all of the resources your chamber has to offer!&nbsp\; &nbsp\;Bring your own lunch and join us&nbsp\;</span><span style="font-size: 18px\;">while at your computer or cell phone!&nbsp\; Sponsorship Opportunity Available!&nbsp\;</span><em style="font-size: 18px\;">*contact Charleen Myers for more information</em>
LOCATION:Venice Area Chamber of Commerce 597 Tamiami Trail S Venice FL 34285
UID:e.3379.1893
SEQUENCE:3
DTSTAMP:20260424T221008Z
URL:https://business.venicechamber.com/events/details/virtual-monday-meet-1893
END:VEVENT

END:VCALENDAR
