BEGIN:VCALENDAR
VERSION:2.0
PRODID:-//ChamberMaster//Event Calendar 2.0//EN
METHOD:PUBLISH
X-PUBLISHED-TTL:P3D
REFRESH-INTERVAL:P3D
CALSCALE:GREGORIAN
BEGIN:VEVENT
DTSTART:20190517T120000Z
DTEND:20190517T160000Z
X-MICROSOFT-CDO-ALLDAYEVENT:FALSE
SUMMARY:Venice Area Young Professionals Forum 2019
DESCRIPTION:Venice Area Young Professional Forum\n\nFocus Forward
X-ALT-DESC;FMTTYPE=text/html:<p><span style="font-size:18px\;">Venice Area Young Professional Forum<br />\nFocus Forward</span></p>\n
LOCATION:State College of Florida 8000 South Tamiami Trail Venice\, FL 34285
UID:e.3379.1102
SEQUENCE:3
DTSTAMP:20260425T155305Z
URL:https://business.venicechamber.com/events/details/venice-area-young-professionals-forum-2019-1102
END:VEVENT

END:VCALENDAR
