BEGIN:VCALENDAR
VERSION:2.0
PRODID:-//ChamberMaster//Event Calendar 2.0//EN
METHOD:PUBLISH
X-PUBLISHED-TTL:P3D
REFRESH-INTERVAL:P3D
CALSCALE:GREGORIAN
BEGIN:VEVENT
DTSTART:20200312T200000Z
DTEND:20200312T220000Z
X-MICROSOFT-CDO-ALLDAYEVENT:FALSE
SUMMARY:VAYP Mixer - March 2020
DESCRIPTION:Come build your network with other Young Professionals in the Venice Area while enjoying delicious hors d'oeurves and refreshments.  \n\n.
X-ALT-DESC;FMTTYPE=text/html:<p><span style="font-size:18px\;">Come build your network with other Young Professionals in the Venice Area while enjoying delicious hors d&#39\;oeurves and refreshments.&nbsp\;</span>&nbsp\;<br />\n<span style="font-size:18px\;">.&nbsp\;&nbsp\;</span></p>\n
LOCATION:Habitat for Humanity South Sarasota County Restore 1400 Ogden Road Venice FL 34293
UID:e.3379.1835
SEQUENCE:3
DTSTAMP:20260424T233400Z
URL:https://business.venicechamber.com/events/details/vayp-mixer-march-2020-1835
END:VEVENT

END:VCALENDAR
