BEGIN:VCALENDAR
VERSION:2.0
PRODID:-//ChamberMaster//Event Calendar 2.0//EN
METHOD:PUBLISH
X-PUBLISHED-TTL:P3D
REFRESH-INTERVAL:P3D
CALSCALE:GREGORIAN
BEGIN:VEVENT
DTSTART:20190613T213000Z
DTEND:20190613T230000Z
X-MICROSOFT-CDO-ALLDAYEVENT:FALSE
SUMMARY:VAYP Mixer - June 2019
DESCRIPTION:Come build your network with other young professionals in the Venice Area while enjoying delicious hors d'oeurves and refreshments.  \n\n.
X-ALT-DESC;FMTTYPE=text/html:<p><span style="font-size:18px\;">Come build your network with other young professionals in the Venice Area while enjoying delicious hors d&#39\;oeurves and refreshments.&nbsp\;</span>&nbsp\;<br />\n<span style="font-size:18px\;">.&nbsp\;&nbsp\;</span></p>\n
LOCATION:Loveland Center 157 S Havana Road Venice FL 34292
UID:e.3379.1110
SEQUENCE:3
DTSTAMP:20260425T140101Z
URL:https://business.venicechamber.com/events/details/vayp-mixer-june-2019-1110
END:VEVENT

END:VCALENDAR
