BEGIN:VCALENDAR
VERSION:2.0
PRODID:-//ChamberMaster//Event Calendar 2.0//EN
METHOD:PUBLISH
X-PUBLISHED-TTL:P3D
REFRESH-INTERVAL:P3D
CALSCALE:GREGORIAN
BEGIN:VEVENT
DTSTART:20190711T213000Z
DTEND:20190711T230000Z
X-MICROSOFT-CDO-ALLDAYEVENT:FALSE
SUMMARY:VAYP Mixer - July 2019
DESCRIPTION:Come build your network with other young professionals in the Venice Area while enjoying delicious hors d'oeurves and refreshments.  \n\n.
X-ALT-DESC;FMTTYPE=text/html:<p><span style="font-size:18px\;">Come build your network with other young professionals in the Venice Area while enjoying delicious hors d&#39\;oeurves and refreshments.&nbsp\;</span>&nbsp\;<br />\n<span style="font-size:18px\;">.&nbsp\;&nbsp\;</span></p>\n
LOCATION:Applebees 4329 S Tamiami Trail Venice FL 34293
UID:e.3379.1114
SEQUENCE:3
DTSTAMP:20260425T142126Z
URL:https://business.venicechamber.com/events/details/vayp-mixer-july-2019-1114
END:VEVENT

END:VCALENDAR
