BEGIN:VCALENDAR
VERSION:2.0
PRODID:-//ChamberMaster//Event Calendar 2.0//EN
METHOD:PUBLISH
X-PUBLISHED-TTL:P3D
REFRESH-INTERVAL:P3D
CALSCALE:GREGORIAN
BEGIN:VEVENT
DTSTART:20191212T210000Z
DTEND:20191212T230000Z
X-MICROSOFT-CDO-ALLDAYEVENT:FALSE
SUMMARY:VAYP Mixer - December 2019
DESCRIPTION:Come build your network with other young professionals in the Venice Area while enjoying delicious hors d'oeurves and refreshments.  Classic Creations is accepting donations for the Child Protective Center.  Please see donation list below.
X-ALT-DESC;FMTTYPE=text/html:<p><span style="font-size:18px\;">Come build your network with other young professionals in the Venice Area while enjoying delicious hors d&#39\;oeurves and refreshments.&nbsp\; Classic Creations is accepting donations for the Child Protective Center.&nbsp\; Please see donation list below.&nbsp\;</span>&nbsp\;<br />\n&nbsp\;</p>\n
LOCATION:Classic Creations in Diamonds & Gold 2389 S Tamiami Trail Venice FL 34293
UID:e.3379.1670
SEQUENCE:3
DTSTAMP:20260425T041621Z
URL:https://business.venicechamber.com/events/details/vayp-mixer-december-2019-1670
END:VEVENT

END:VCALENDAR
