BEGIN:VCALENDAR
VERSION:2.0
PRODID:-//ChamberMaster//Event Calendar 2.0//EN
METHOD:PUBLISH
X-PUBLISHED-TTL:P3D
REFRESH-INTERVAL:P3D
CALSCALE:GREGORIAN
BEGIN:VEVENT
DTSTART:20181213T223000Z
DTEND:20181214T000000Z
X-MICROSOFT-CDO-ALLDAYEVENT:FALSE
SUMMARY:VAYP Mixer - December 2018
DESCRIPTION:Come build your network with other young professionals in the Venice Area while enjoying delicious hors d'oeurves and refreshments.  \n\n.
X-ALT-DESC;FMTTYPE=text/html:<p><span style="font-size:18px\;">Come build your network with other young professionals in the Venice Area while enjoying delicious hors d&rsquo\;oeurves and refreshments.&nbsp\;</span>&nbsp\;<br />\n<span style="font-size:18px\;">.&nbsp\;&nbsp\;</span></p>\n
LOCATION:Classic Creations in Diamonds & Gold 2389 S Tamiami Trail Venice FL 34293
UID:e.3379.1085
SEQUENCE:3
DTSTAMP:20260426T000524Z
URL:https://business.venicechamber.com/events/details/vayp-mixer-december-2018-1085
END:VEVENT

END:VCALENDAR
