BEGIN:VCALENDAR
VERSION:2.0
PRODID:-//ChamberMaster//Event Calendar 2.0//EN
METHOD:PUBLISH
X-PUBLISHED-TTL:P3D
REFRESH-INTERVAL:P3D
CALSCALE:GREGORIAN
BEGIN:VEVENT
DTSTART:20190411T213000Z
DTEND:20190411T230000Z
X-MICROSOFT-CDO-ALLDAYEVENT:FALSE
SUMMARY:VAYP Mixer - April 2019
DESCRIPTION:Come build your network with other young professionals in the Venice Area while enjoying delicious hors d'oeurves and refreshments.  \n\n.
X-ALT-DESC;FMTTYPE=text/html:<p><span style="font-size:18px\;">Come build your network with other young professionals in the Venice Area while enjoying delicious hors d&rsquo\;oeurves and refreshments.&nbsp\;</span>&nbsp\;<br />\n<span style="font-size:18px\;">.&nbsp\;&nbsp\;</span></p>\n
LOCATION:Allegro Bistro (HOSTED BY EDWARD JONES) 1740 E Venice Ave Venice FL 34293
UID:e.3379.1104
SEQUENCE:3
DTSTAMP:20260425T172113Z
URL:https://business.venicechamber.com/events/details/vayp-mixer-april-2019-1104
END:VEVENT

END:VCALENDAR
