BEGIN:VCALENDAR
VERSION:2.0
PRODID:-//ChamberMaster//Event Calendar 2.0//EN
METHOD:PUBLISH
X-PUBLISHED-TTL:P3D
REFRESH-INTERVAL:P3D
CALSCALE:GREGORIAN
BEGIN:VEVENT
DTSTART:20220825T200000Z
DTEND:20220825T220000Z
X-MICROSOFT-CDO-ALLDAYEVENT:FALSE
SUMMARY:Tri Chamber Business Connections - August 2022
DESCRIPTION:Please join the Venice\, Englewood and North Port Area Chambers of Commerce for our Annual Tri-Chamber Business Connections. You get to connect with Members from all three Chambers!\n\n\n\nYou MUST be a Chamber from either Venice\, North Port\, or Englewood Chambers and you must pre-register. We cannot take walk ins. \n\n\n\n**Cancellations after August 18\, 2022 will not be refunded as reservations have been made in your name\n\n\n\n*Door prizes are welcome to promote your business!\n\n\n\nThe Venice Area Chamber of Commerce is committed to the health and safety of its members.  We are monitoring and following the latest direction as outlined by local\, state\, and federal officials.  We recommend that all attendees review and follow the latest guidance on the COVID-19 pandemic from the Centers for Disease Control and Prevention (CDC):  https://www.cdc.gov/coronavirus/2019-ncov/index.html\n\n\n\n \n\n*IT IS POSSIBLE AT ANY OF OUR CHAMBER EVENTS WE WILL BE TAKING PHOTOS AND/OR VIDEOING\, AND THAT YOU MAY BE FEATURED IN THESE PHOTOS/VIDEOS. THESE PHOTOS/VIDEOS ARE FOR THE USE OF THE VENICE AREA CHAMBER OF COMMERCE ONLY AND COULD POSSIBLY BE FEATURED ON OUR SOCIAL MEDIA ACCOUNTS\, ON OUR WEBSITE\, AND/OR IN THE CHAMBER?S ADVERTISEMENTS AND PROMOTIONAL MATERIALS.
X-ALT-DESC;FMTTYPE=text/html:<p><span style="font-size:18px\;"><strong>Please join the Venice\, Englewood and North Port Area Chambers of Commerce for our Annual Tri-Chamber Business Connections. You get to connect with Members from all three Chambers!</strong></span><br />\n<br />\n<span style="font-size:18px\;"><strong>You MUST be a Chamber from either Venice\, North Port\, or Englewood Chambers and you must pre-register. We cannot take walk ins.&nbsp\;</strong></span><br />\n<br />\n<strong style="font-size: 18px\;"><em><span style="font-size: 14px\;">**Cancellations after August 18\, 2022 will not be refunded as reservations have been made in your name</span></em></strong><br />\n<br />\n<span style="font-size:18px\;"><strong>*Door prizes are welcome to promote your business!</strong></span><br />\n<br />\n<span style="font-size:16px\;"><strong>The Venice Area Chamber of Commerce is committed to the health and safety of its members.&nbsp\; We are monitoring and following the latest&nbsp\;direction as outlined&nbsp\;by local\, state\, and federal officials.&nbsp\; We recommend that all attendees review and follow the latest guidance on the COVID-19 pandemic from the Centers for Disease Control and Prevention (CDC):&nbsp\; <u>https://www.cdc.gov/coronavirus/2019-ncov/index.html</u></strong></span><br />\n<br />\n<span style="font-size: 18px\;">&nbsp\;</span><br />\n<em><span style="font-size: 9px\;"><span style="color: rgb(0\, 0\, 0)\; font-family: Montserrat\, Helvetica\, Arial\, Lucida\, sans-serif\; font-weight: 700\; letter-spacing: 2px\; text-align: center\; text-transform: uppercase\;">*IT IS POSSIBLE AT ANY OF OUR CHAMBER EVENTS WE WILL BE TAKING PHOTOS AND/OR VIDEOING\, AND THAT YOU MAY BE FEATURED IN THESE PHOTOS/VIDEOS. THESE PHOTOS/VIDEOS ARE FOR THE USE OF THE VENICE AREA CHAMBER OF COMMERCE ONLY AND COULD POSSIBLY BE FEATURED ON OUR SOCIAL MEDIA ACCOUNTS\, ON OUR WEBSITE\, AND/OR IN THE CHAMBER?S ADVERTISEMENTS AND PROMOTIONAL MATERIALS.</span></span></em></p>\n\n<p>&nbsp\;</p>\n
LOCATION:Plantation Golf & Country Club 500 Rockley Blvd Venice\, FL 34293
UID:e.3379.6574
SEQUENCE:3
DTSTAMP:20260420T022847Z
URL:https://business.venicechamber.com/events/details/tri-chamber-business-connections-august-2022-6574
END:VEVENT

END:VCALENDAR
