BEGIN:VCALENDAR
VERSION:2.0
PRODID:-//ChamberMaster//Event Calendar 2.0//EN
METHOD:PUBLISH
X-PUBLISHED-TTL:P3D
REFRESH-INTERVAL:P3D
CALSCALE:GREGORIAN
BEGIN:VEVENT
DTSTART:20260121T220000Z
DTEND:20260122T030000Z
X-MICROSOFT-CDO-ALLDAYEVENT:FALSE
SUMMARY:Together Through Time: Venice at 100 January 21\, 2026
DESCRIPTION:This event is officially sold out.\n\nWe are truly grateful for the wonderful response. Regrettably\, we are unable to accommodate walk ins\; access will be limited to registered attendees only. Thank you for your understanding!\n\n\n\nTogether Through Time: Venice at 100\n\nCelebrate a Century of Community\, Progress\, and Partnership\n\nJoin us for Together Through Time: Venice at 100\, a once-in-a-century celebration honoring the rich history and vibrant spirit of our city and Chamber. This special evening will pay tribute to 100 years of connection and growth\, highlighting the people\, stories\, and milestones that shaped Venice into what it is today.\n\n\n\nAn Evening to Remember:\n\n\n	 Cocktail Hour begins at 5:00 PM\, featuring the elegant sounds from The Venice Symphony to set the tone for an unforgettable evening.\n	Dinner begins at 6:00 PM\, inviting you to savor a "Taste of the Times"\, a curated dining experience inspired by the flavors of Venice's history\, accompanied by music from The Venice Symphony.\n	Live music from The Venice Symphony and the band Occasions\, bringing the sounds of every era to life\n	Historic imagery and exclusive Centennial keepsakes to commemorate this milestone\n	A sparkling champagne toast to 100 years and the bright future ahead\n\n\n \n\n   Tickets: $100 per person | Limited seating available\n\nAdmission includes dinner\, drinks\, music\, dancing\, exclusive Centennial favors and more!\n\n\n\n\n  Come in Style:\n\n\nBusiness casual or get creative with decade inspired looks\, think polished flapper flair\, dapper suits and timeless elegance!\n\n \n\nEnjoy an evening filled with reflection\, celebration\, and inspiration as we raise a glass to a century of legacy and the next 100 years to come!\n\n \n\n\n\nRefund Policy
X-ALT-DESC;FMTTYPE=text/html:<div style="text-align: center\;">\n<div font-size:="" line-height:="" segoe="" style="color: rgb(0\, 0\, 0)\; font-family: ">\n<div font-size:="" line-height:="" segoe="" style="color: rgb(0\, 0\, 0)\; font-family: "><span style="font-size:18px\;"><span style="color:#A52A2A\;"><strong><em><span style="font-family:times new roman\;">This event is officially sold out.<br />\nWe are truly grateful for the wonderful response. </span></em><span style="font-family:times new roman\;"><em>Regrettably\, we are unable to accommodate walk&#8209\;ins\; access will be limited to registered attendees only.</em></span><em><strong><span style="font-family:times new roman\;"><em> </em></span></strong><span style="font-family:times new roman\;">Thank you for your understanding!</span></em></strong></span></span></div>\n</div>\n<br />\n<span style="font-size:14px\;"><span style="font-family:times new roman\;"><span style="color:#000000\;"><u><em>Together Through Time: Venice at 100<br />\nCelebrate a Century of Community\, Progress\, and Partnership</em></u></span></span></span>\n\n<div style="text-align: left\;"><span style="font-size:14px\;"><span style="font-family:times new roman\;"><span style="color:#000000\;">Join us for Together Through Time: Venice at 100\, a once-in-a-century celebration honoring the rich history and vibrant spirit of our city and Chamber. This special evening will pay tribute to 100 years of connection and growth\, highlighting the people\, stories\, and milestones that shaped Venice into what it is today.</span></span></span>\n\n<p style="margin: 0px\; padding: 0px\; color: rgb(0\, 0\, 0)\; font-family: Arial\, Verdana\, Helvetica\, sans-serif\; font-size: 14px\;"><br />\n<span style="font-size:14px\;"><span style="font-family:times new roman\;"><span style="color:#000000\;"><span color:="" data-olk-copy-source="MessageBody" font-feature-settings:="" font-kerning:="" font-language-override:="" font-optical-sizing:="" font-size-adjust:="" font-variation-settings:="" margin:="" new="" padding:="" style="border: 0px\; font-style: inherit\; font-variant: inherit\; font-weight: bold\; font-stretch: inherit\; line-height: inherit\;" times="" vertical-align:="">An Evening to Remember:</span></span></span></span></p>\n\n<ul style="padding-right: 0px\; padding-left: 0px\; margin-top: 0px\; margin-right: 0px\; margin-bottom: 0px\; color: rgb(0\, 0\, 0)\; font-family: Arial\, Verdana\, Helvetica\, sans-serif\; font-size: 14px\;">\n	<li style="margin: 0px\; padding: 0px\; color: rgb(0\, 0\, 0)\; font-family: Arial\, Verdana\, Helvetica\, sans-serif\; font-size: 14px\;"><span style="font-size:14px\;"><span style="font-family:times new roman\;"><span style="color: rgb(8\, 8\, 9)\;">&nbsp\;Cocktail Hour begins at</span><span style="color:#000080\;"> <u>5:00 PM</u></span><span style="color: rgb(8\, 8\, 9)\;">\, featuring the elegant sounds from The Venice Symphony to set the tone for an unforgettable evening.</span></span></span></li>\n	<li style="margin: 0px\; padding: 0px\; color: rgb(0\, 0\, 0)\; font-family: Arial\, Verdana\, Helvetica\, sans-serif\; font-size: 14px\;"><span style="font-size:14px\;"><span style="font-family:times new roman\;"><span style="color: rgb(8\, 8\, 9)\;">Dinner begins at </span><span style="color:#000080\;"><u>6:00 PM</u></span><span style="color: rgb(8\, 8\, 9)\;">\, inviting you to savor a &ldquo\;Taste of the Times&rdquo\;\, a curated dining experience inspired by the flavors of Venice&rsquo\;s history\, accompanied by music from The Venice Symphony.</span></span></span></li>\n	<li style="padding: 0px\; margin: 0px\; font-size: 16px\;"><span style="font-size:14px\;"><span style="font-family:times new roman\;"><span style="color:#000000\;"><span color:="" font-feature-settings:="" font-kerning:="" font-language-override:="" font-optical-sizing:="" font-size-adjust:="" font-variation-settings:="" margin:="" new="" padding:="" style="border: 0px\; font-style: inherit\; font-variant: inherit\; font-weight: inherit\; font-stretch: inherit\; line-height: inherit\; font-family: " times="" vertical-align:="">Live music from The Venice Symphony and the band Occasions\, bringing the sounds of every era to life</span></span></span></span></li>\n	<li style="padding: 0px\; margin: 0px\; font-size: 16px\;"><span style="font-size:14px\;"><span style="font-family:times new roman\;"><span style="color:#000000\;"><span color:="" font-feature-settings:="" font-kerning:="" font-language-override:="" font-optical-sizing:="" font-size-adjust:="" font-variation-settings:="" margin:="" new="" padding:="" style="border: 0px\; font-style: inherit\; font-variant: inherit\; font-weight: inherit\; font-stretch: inherit\; line-height: inherit\; font-family: " times="" vertical-align:="">Historic imagery and exclusive Centennial keepsakes&nbsp\;to commemorate this milestone</span></span></span></span></li>\n	<li style="padding: 0px\; margin: 0px\; font-size: 16px\;"><span style="font-size:14px\;"><span style="font-family:times new roman\;"><span style="color:#000000\;"><span color:="" font-feature-settings:="" font-kerning:="" font-language-override:="" font-optical-sizing:="" font-size-adjust:="" font-variation-settings:="" margin:="" new="" padding:="" style="border: 0px\; font-style: inherit\; font-variant: inherit\; font-weight: inherit\; font-stretch: inherit\; line-height: inherit\; font-family: " times="" vertical-align:="">A sparkling champagne toast&nbsp\;to 100 years and the bright future ahead</span></span></span></span></li>\n</ul>\n\n<p style="margin: 0px\; padding: 0px\; color: rgb(0\, 0\, 0)\; font-family: Arial\, Verdana\, Helvetica\, sans-serif\; font-size: 14px\;">&nbsp\;</p>\n\n<p style="margin: 0px\; padding: 0px\; color: rgb(0\, 0\, 0)\; font-family: Arial\, Verdana\, Helvetica\, sans-serif\; font-size: 14px\;"><span style="font-size:14px\;"><span style="font-family:times new roman\;"><span style="color:#000000\;"><span color:="" font-feature-settings:="" font-kerning:="" font-language-override:="" font-optical-sizing:="" font-size-adjust:="" font-variation-settings:="" margin:="" new="" padding:="" style="border: 0px\; font-style: inherit\; font-variant: inherit\; font-weight: bold\; font-stretch: inherit\; line-height: inherit\;" times="" vertical-align:="">&#127903\;&#65039\;&nbsp\;Tickets: $100 per person | Limited seating available</span></span></span></span></p>\n\n<p style="margin: 0px\; padding: 0px\; color: rgb(0\, 0\, 0)\; font-family: Arial\, Verdana\, Helvetica\, sans-serif\; font-size: 14px\;"><span style="font-size:14px\;"><span style="font-family:times new roman\;"><span style="color:#000000\;"><span color:="" font-feature-settings:="" font-kerning:="" font-language-override:="" font-optical-sizing:="" font-size-adjust:="" font-variation-settings:="" margin:="" new="" padding:="" style="border: 0px\; font-style: inherit\; font-variant: inherit\; font-stretch: inherit\; line-height: inherit\;" times="" vertical-align:="">Admission includes dinner\, drinks\, music\, dancing\, exclusive Centennial favors and more!</span></span></span></span></p>\n</div>\n\n<div style="text-align: left\;"><br />\n<span style="font-size:14px\;"><span style="font-family:times new roman\;"><span style="color:#000000\;"><span data-olk-copy-source="MessageBody" font-feature-settings:="" font-kerning:="" font-language-override:="" font-optical-sizing:="" font-size-adjust:="" font-variation-settings:="" margin:="" new="" padding:="" style="text-align: left\; border: 0px\; font-style: inherit\; font-variant: inherit\; font-weight: bold\; font-stretch: inherit\; line-height: inherit\;" times="" vertical-align:="">&#128087\;&nbsp\;</span><span color:="" font-feature-settings:="" font-kerning:="" font-language-override:="" font-optical-sizing:="" font-size-adjust:="" font-variation-settings:="" margin:="" new="" padding:="" style="text-align: left\; border: 0px\; font-style: inherit\; font-variant: inherit\; font-weight: bold\; font-stretch: inherit\; line-height: inherit\;" times="" vertical-align:="">Come in Style:</span></span></span></span></div>\n\n<div style="text-align: left\;">\n<p style="margin: 0px\; padding: 0px\; color: rgb(0\, 0\, 0)\; font-family: Arial\, Verdana\, Helvetica\, sans-serif\; font-size: 14px\;"><span style="font-size:14px\;"><span style="font-family:times new roman\;"><span style="color:#000000\;"><span color:="" font-feature-settings:="" font-kerning:="" font-language-override:="" font-optical-sizing:="" font-size-adjust:="" font-variation-settings:="" margin:="" new="" padding:="" style="border: 0px\; font-style: inherit\; font-variant: inherit\; font-stretch: inherit\; line-height: inherit\;" times="" vertical-align:="">Business casual or get creative with decade inspired looks\, think polished flapper flair\, dapper suits and timeless elegance!</span></span></span></span><br />\n&nbsp\;</p>\n\n<p style="margin: 0px\; padding: 0px\; color: rgb(0\, 0\, 0)\; font-family: Arial\, Verdana\, Helvetica\, sans-serif\; font-size: 14px\; text-align: center\;"><span style="font-size:14px\;"><span style="font-family:times new roman\;"><span style="color:#000000\;"><span font-size:="" new="" text-align:="" times="">Enjoy an evening filled with&nbsp\;</span><strong font-size:="" new="" style="font-family: " text-align:="" times="">reflection\, celebration\, and inspiration</strong><span font-size:="" new="" text-align:="" times="">&nbsp\;as we raise a glass to a century of legacy and the next 100 years to come!</span></span></span></span></p>\n\n<div>&nbsp\;</div>\n</div>\n</div>\n\n<div><span style="font-size:14px\;"><span style="font-family:times new roman\;"><u><strong><em><a href="https://www.venicechamber.com/assets/pdf/VACC+Refund+Policy/" target="_blank">Refund Policy</a></em></strong></u></span></span></div>\n
LOCATION:Venice Community Center 326 Nokomis Ave S Venice\, FL 34285
UID:e.3379.9017
SEQUENCE:3
DTSTAMP:20260424T203106Z
URL:https://business.venicechamber.com/events/details/together-through-time-venice-at-100-january-21-2026-9017
END:VEVENT

END:VCALENDAR
