BEGIN:VCALENDAR
VERSION:2.0
PRODID:-//ChamberMaster//Event Calendar 2.0//EN
METHOD:PUBLISH
X-PUBLISHED-TTL:P3D
REFRESH-INTERVAL:P3D
CALSCALE:GREGORIAN
BEGIN:VEVENT
DTSTART:20220606T153000Z
DTEND:20220606T170000Z
X-MICROSOFT-CDO-ALLDAYEVENT:FALSE
SUMMARY:Setting the Stage For Success - June 6\, 2022
DESCRIPTION:Guest Speaker Joe Mullan\, Former Top Sales Rep for a Fortune 500 Company presents: \n\n\n\n"Setting the Stage for Success"\n\n	The Art of Handling Objections\n	Client Info Gathering\n	How to save a lost customer\n\nWe hope you'll be able to join us!  \n\n\n\n**Cancellations after June 3\, 2022 will not be refunded as reservations have been made in your name\n\n\n\nThe Venice Area Chamber of Commerce is committed to the health and safety of its members.  We are monitoring and following the latest direction as outlined by local\, state\, and federal officials.  We recommend that all attendees review and follow the latest guidance on the COVID-19 pandemic from the Centers for Disease Control and Prevention (CDC):  https://www.cdc.gov/coronavirus/2019-ncov/index.html\n\n \n\n*IT IS POSSIBLE AT ANY OF OUR CHAMBER EVENTS WE WILL BE TAKING PHOTOS AND/OR VIDEOING\, AND THAT YOU MAY BE FEATURED IN THESE PHOTOS/VIDEOS. THESE PHOTOS/VIDEOS ARE FOR THE USE OF THE VENICE AREA CHAMBER OF COMMERCE ONLY AND COULD POSSIBLY BE FEATURED ON OUR SOCIAL MEDIA ACCOUNTS\, ON OUR WEBSITE\, AND/OR IN THE CHAMBER'S ADVERTISEMENTS AND PROMOTIONAL MATERIALS.
X-ALT-DESC;FMTTYPE=text/html:<div style="text-align: justify\;"><span font-size:="" style="color: rgb(5\, 5\, 5)\; font-family: system-ui\, -apple-system\, system-ui\, "><strong>Guest Speaker Joe Mullan\, Former Top Sales Rep for a Fortune 500 Company presents</strong>:&nbsp\;</span><br />\n<br />\n<strong>&ldquo\;Setting the Stage for Success&rdquo\;</strong>\n<ul>\n	<li style="color:black\;">The Art of Handling Objections</li>\n	<li style="color:black\;">Client Info Gathering</li>\n	<li style="color:black\;">How to save a lost customer</li>\n</ul>\n<span font-size:="" style="color: rgb(5\, 5\, 5)\; font-family: system-ui\, -apple-system\, system-ui\, ">We hope you&#39\;ll be able to join us!&nbsp\;&nbsp\;</span><br />\n<br />\n<strong style="font-size: 18px\;"><em><span style="font-size: 14px\;">**Cancellations after June 3\, 2022 will not be refunded as reservations have been made in your name</span></em></strong><br />\n<br />\n<strong><span style="font-family: calibri\, sans-serif\;"><span style="font-size: 12pt\;">The Venice Area Chamber of Commerce is committed to the health and safety of its members.&nbsp\; We are monitoring and following the latest&nbsp\;direction as outlined&nbsp\;by local\, state\, and federal officials.&nbsp\; We recommend that all attendees review and follow the latest guidance on the COVID-19 pandemic from the Centers for Disease Control and Prevention (CDC):&nbsp\;&nbsp\;<u><a href="https://www.cdc.gov/coronavirus/2019-ncov/index.html"><span style="font-weight: normal\;">https://www.cdc.gov/coronavirus/2019-ncov/index.html</span></a></u></span></span></strong><br />\n&nbsp\;</div>\n\n<div style="text-align: justify\;"><em style="box-sizing: border-box\; color: rgb(68\, 68\, 68)\; font-family: Arial\, Helvetica\, sans-serif\; font-size: 16px\;"><span style="box-sizing: border-box\; font-size: 9px\;"><span style="box-sizing: border-box\; color: rgb(0\, 0\, 0)\; font-family: Montserrat\, Helvetica\, Arial\, Lucida\, sans-serif\; font-weight: 700\; letter-spacing: 2px\; text-align: center\; text-transform: uppercase\;">*IT IS POSSIBLE AT ANY OF OUR CHAMBER EVENTS WE WILL BE TAKING PHOTOS AND/OR VIDEOING\, AND THAT YOU MAY BE FEATURED IN THESE PHOTOS/VIDEOS. THESE PHOTOS/VIDEOS ARE FOR THE USE OF THE VENICE AREA CHAMBER OF COMMERCE ONLY AND COULD POSSIBLY BE FEATURED ON OUR SOCIAL MEDIA ACCOUNTS\, ON OUR WEBSITE\, AND/OR IN THE CHAMBER&rsquo\;S ADVERTISEMENTS AND PROMOTIONAL MATERIALS.</span></span></em></div>\n<br />\n&nbsp\;
LOCATION:San Marco of Venice 305 B West Venice Avenue Venice FL 34285
UID:e.3379.6588
SEQUENCE:3
DTSTAMP:20260420T004759Z
URL:https://business.venicechamber.com/events/details/setting-the-stage-for-success-june-6-2022-6588
END:VEVENT

END:VCALENDAR
