BEGIN:VCALENDAR
VERSION:2.0
PRODID:-//ChamberMaster//Event Calendar 2.0//EN
METHOD:PUBLISH
X-PUBLISHED-TTL:P3D
REFRESH-INTERVAL:P3D
CALSCALE:GREGORIAN
BEGIN:VEVENT
DTSTART:20241107T223000Z
DTEND:20241108T003000Z
X-MICROSOFT-CDO-ALLDAYEVENT:FALSE
SUMMARY:Sarasota County Connect Series: Part 2 - Strategic Market Research and Planning for Small Business
DESCRIPTION:Sarasota County Connect is made possible thanks to the generous support of the Truist Foundation.\n\n\n\nThe event is free\, but reservations are required.  Space is Limited.\n\n\n\nLearn more and register at 26 West.SCF.edu/SarasotaConnect-Oct
X-ALT-DESC;FMTTYPE=text/html:<p><span style="font-family:arial\;">Sarasota County Connect is made possible thanks to the generous support of the Truist Foundation.<br />\n<br />\nThe event is free\, but reservations are required.&nbsp\; Space is Limited.</span><br />\n<br />\n<strong>Learn more and register at 26 West.SCF.edu/SarasotaConnect-Oct</strong></p>\n
LOCATION:Solis Hall 19745 Wellen Park Blvd. Venice\, FL 34293
UID:e.3379.8496
SEQUENCE:3
DTSTAMP:20260424T041507Z
URL:https://business.venicechamber.com/events/details/sarasota-county-connect-series-part-2-strategic-market-research-and-planning-for-small-business-8496
END:VEVENT

END:VCALENDAR
