BEGIN:VCALENDAR
VERSION:2.0
PRODID:-//ChamberMaster//Event Calendar 2.0//EN
METHOD:PUBLISH
X-PUBLISHED-TTL:P3D
REFRESH-INTERVAL:P3D
CALSCALE:GREGORIAN
BEGIN:VEVENT
DTSTART:20190118T170000Z
DTEND:20190118T180000Z
X-MICROSOFT-CDO-ALLDAYEVENT:FALSE
SUMMARY:Ribbon Cutting Your CBD Store Nokomis January 18\, 2019
DESCRIPTION:Ribbon Cutting at Your CBD Store Nokomis
X-ALT-DESC;FMTTYPE=text/html:<span style="font-size:18px\;">Ribbon Cutting at Your CBD Store Nokomis</span><br />\n&nbsp\;
LOCATION:Your CBD Store Nokomis 635 N Tamiami Trail Nokomis FL 34275
UID:e.3379.1281
SEQUENCE:3
DTSTAMP:20260425T221759Z
URL:https://business.venicechamber.com/events/details/ribbon-cutting-your-cbd-store-nokomis-january-18-2019-1281
END:VEVENT

END:VCALENDAR
