BEGIN:VCALENDAR
VERSION:2.0
PRODID:-//ChamberMaster//Event Calendar 2.0//EN
METHOD:PUBLISH
X-PUBLISHED-TTL:P3D
REFRESH-INTERVAL:P3D
CALSCALE:GREGORIAN
BEGIN:VEVENT
DTSTART:20230110T210000Z
DTEND:20230110T220000Z
X-MICROSOFT-CDO-ALLDAYEVENT:FALSE
SUMMARY:Ribbon Cutting YouFit Gyms Venice January 10\, 2023
DESCRIPTION:Please join us for a Ribbon Cutting for YouFit Gyms Venice!  \n\n\n\n"YouFit Gyms is a place everybody fits in no matter your fitness level or goals!".  \n\n\n\nRibbon Cutting is at 4:00 PM.  Refreshments will be served!  \n\n\n\n\n\n \n\n*IT IS POSSIBLE AT ANY OF OUR CHAMBER EVENTS WE WILL BE TAKING PHOTOS AND/OR VIDEOING\, AND THAT YOU MAY BE FEATURED IN THESE PHOTOS/VIDEOS. THESE PHOTOS/VIDEOS ARE FOR THE USE OF THE VENICE AREA CHAMBER OF COMMERCE ONLY AND COULD POSSIBLY BE FEATURED ON OUR SOCIAL MEDIA ACCOUNTS\, ON OUR WEBSITE\, AND/OR IN THE CHAMBER'S ADVERTISEMENTS AND PROMOTIONAL MATERIALS.
X-ALT-DESC;FMTTYPE=text/html:<p><strong><span style="font-size:18px\;">Please join us for a Ribbon Cutting for YouFit Gyms Venice!&nbsp\;&nbsp\;<br />\n<br />\n<em>&quot\;YouFit Gyms is a place everybody fits in no matter your fitness level or goals!&quot\;.&nbsp\;&nbsp\;</em><br />\n<br />\nR</span></strong><span data-uw-styling-context="true" style="box-sizing: border-box\; font-weight: bolder\; color: rgb(68\, 68\, 68)\; font-family: Arial\, Helvetica\, sans-serif\; font-size: 18px\;">ibbon Cutting is at 4:00 PM.&nbsp\; Refreshments will be served!&nbsp\;&nbsp\;</span><br />\n<br />\n<br />\n&nbsp\;<br />\n<em><strong><span style="text-transform:uppercase\;letter-spacing:1.5pt\;"><span style="color:black\;"><span style="font-family:helvetica\,sans-serif\;"><span style="font-size:7.0pt\;">*IT IS POSSIBLE AT ANY OF OUR CHAMBER EVENTS WE WILL BE TAKING PHOTOS AND/OR VIDEOING\, AND THAT YOU MAY BE FEATURED IN THESE PHOTOS/VIDEOS. THESE PHOTOS/VIDEOS ARE FOR THE USE OF THE VENICE AREA CHAMBER OF COMMERCE ONLY AND COULD POSSIBLY BE FEATURED ON OUR SOCIAL MEDIA ACCOUNTS\, ON OUR WEBSITE\, AND/OR IN THE CHAMBER&rsquo\;S ADVERTISEMENTS AND PROMOTIONAL MATERIALS.</span></span></span></span></strong></em><br />\n&nbsp\;</p>\n
LOCATION:YouFit Gyms Venice 1228 Jacaranda Blvd Venice\, FL 34292
UID:e.3379.6655
SEQUENCE:3
DTSTAMP:20260420T112750Z
URL:https://business.venicechamber.com/events/details/ribbon-cutting-youfit-gyms-venice-january-10-2023-6655
END:VEVENT

END:VCALENDAR
