BEGIN:VCALENDAR
VERSION:2.0
PRODID:-//ChamberMaster//Event Calendar 2.0//EN
METHOD:PUBLISH
X-PUBLISHED-TTL:P3D
REFRESH-INTERVAL:P3D
CALSCALE:GREGORIAN
BEGIN:VEVENT
DTSTART:20211103T150000Z
DTEND:20211103T160000Z
X-MICROSOFT-CDO-ALLDAYEVENT:FALSE
SUMMARY:Ribbon Cutting 'WICHES November 3\, 2021
DESCRIPTION:Please join us for a Ribbon Cutting at 'WICHES for National Sandwich Day!\n\n\n\nEvery 'Wich is made with fresh in house every morning to provide the freshest\, tastiest sandwich experience.  Made with top quality meats and cheese sliced thin.  Every 'WICH is wrapped and ready for you to grab and go\, so you can enjoy your days adventures!\n\n\n\nWe hope you will join us and try some delicious sandwich samples!\n\n\n\nThe Venice Area Chamber of Commerce is committed to the health and safety of its members.  We are monitoring and following the latest direction as outlined by local\, state\, and federal officials.  We recommend that all attendees review and follow the latest guidance on the COVID-19 pandemic from the Centers for Disease Control and Prevention (CDC):  https://www.cdc.gov/coronavirus/2019-ncov/index.html\n\n\n\n \n\n*IT IS POSSIBLE AT ANY OF OUR CHAMBER EVENTS WE WILL BE TAKING PHOTOS AND/OR VIDEOING\, AND THAT YOU MAY BE FEATURED IN THESE PHOTOS/VIDEOS. THESE PHOTOS/VIDEOS ARE FOR THE USE OF THE VENICE AREA CHAMBER OF COMMERCE ONLY AND COULD POSSIBLY BE FEATURED ON OUR SOCIAL MEDIA ACCOUNTS\, ON OUR WEBSITE\, AND/OR IN THE CHAMBER'S ADVERTISEMENTS AND PROMOTIONAL MATERIALS.
X-ALT-DESC;FMTTYPE=text/html:<strong><span style="font-size:18px\;">Please join us for a Ribbon Cutting at &#39\;WICHES for National Sandwich Day!<br />\n<br />\nEvery &#39\;Wich is made with fresh in house every morning to provide the freshest\, tastiest sandwich experience.&nbsp\; Made with top quality meats and cheese sliced thin.&nbsp\; Every &#39\;WICH is wrapped and ready for you to grab and go\, so you can enjoy your days adventures!<br />\n<br />\nWe hope you will join us and try some delicious sandwich samples!</span></strong><br />\n<br />\n<strong><span style="font-family:calibri\,sans-serif\;"><span style="font-size:12.0pt\;">The Venice Area Chamber of Commerce is committed to the health and safety of its members.&nbsp\; We are monitoring and following the latest&nbsp\;direction as outlined&nbsp\;by local\, state\, and federal officials.&nbsp\; We recommend that all attendees review and follow the latest guidance on the COVID-19 pandemic from the Centers for Disease Control and Prevention (CDC):&nbsp\;&nbsp\;<u><a href="https://www.cdc.gov/coronavirus/2019-ncov/index.html"><span style="font-weight:normal\;">https://www.cdc.gov/coronavirus/2019-ncov/index.html</span></a></u></span></span></strong><br />\n<br />\n&nbsp\;<br />\n<em><strong><span style="text-transform:uppercase\;letter-spacing:1.5pt\;"><span style="color:black\;"><span style="font-family:helvetica\,sans-serif\;"><span style="font-size:7.0pt\;">*IT IS POSSIBLE AT ANY OF OUR CHAMBER EVENTS WE WILL BE TAKING PHOTOS AND/OR VIDEOING\, AND THAT YOU MAY BE FEATURED IN THESE PHOTOS/VIDEOS. THESE PHOTOS/VIDEOS ARE FOR THE USE OF THE VENICE AREA CHAMBER OF COMMERCE ONLY AND COULD POSSIBLY BE FEATURED ON OUR SOCIAL MEDIA ACCOUNTS\, ON OUR WEBSITE\, AND/OR IN THE CHAMBER&rsquo\;S ADVERTISEMENTS AND PROMOTIONAL MATERIALS.</span></span></span></span></strong></em><br />\n&nbsp\;
LOCATION:'WICHES 303 S Tamiami Trail Nokomis FL 34275
UID:e.3379.6504
SEQUENCE:3
DTSTAMP:20260419T131319Z
URL:https://business.venicechamber.com/events/details/ribbon-cutting-wiches-november-3-2021-6504
END:VEVENT

END:VCALENDAR
