BEGIN:VCALENDAR
VERSION:2.0
PRODID:-//ChamberMaster//Event Calendar 2.0//EN
METHOD:PUBLISH
X-PUBLISHED-TTL:P3D
REFRESH-INTERVAL:P3D
CALSCALE:GREGORIAN
BEGIN:VEVENT
DTSTART:20190913T203000Z
DTEND:20190913T213000Z
X-MICROSOFT-CDO-ALLDAYEVENT:FALSE
SUMMARY:Ribbon Cutting Virasana Salon September 13\, 2019
DESCRIPTION:Please join us for a Ribbon Cutting at Virasana Salon!
X-ALT-DESC;FMTTYPE=text/html:<span style="font-size:18px\;">Please join us for a Ribbon Cutting at Virasana Salon!</span><br />\n&nbsp\;
LOCATION:Virasana Salon 107 Tampa Ave Venice FL 34285
UID:e.3379.1672
SEQUENCE:3
DTSTAMP:20260425T111038Z
URL:https://business.venicechamber.com/events/details/ribbon-cutting-virasana-salon-september-13-2019-1672
END:VEVENT

END:VCALENDAR
