BEGIN:VCALENDAR
VERSION:2.0
PRODID:-//ChamberMaster//Event Calendar 2.0//EN
METHOD:PUBLISH
X-PUBLISHED-TTL:P3D
REFRESH-INTERVAL:P3D
CALSCALE:GREGORIAN
BEGIN:VEVENT
DTSTART:20240808T130000Z
DTEND:20240808T140000Z
X-MICROSOFT-CDO-ALLDAYEVENT:FALSE
SUMMARY:Ribbon Cutting Vida Counseling Group\, August 8\, 2024
DESCRIPTION:Our mission is to provide professional\, affordable\, and highly effective Behavior Therapy & counseling services to a wide range of clients. \n\n\n\nWe offer Behavior Analysis Services\, Individual\, Couples & Family Counseling\, Professional Development\, and Social Services.  We are minority owned and bilingual: Fluent in English and Spanish.\n\n\n\nRefreshments will be served.\n\n\n\nAs a courtesy to our host\, if you have registered for this event and can no longer attend\, please let us know as reservations have been made in your name.\n\n\n\n*IT IS POSSIBLE AT ANY OF OUR CHAMBER EVENTS WE WILL BE TAKING PHOTOS AND/OR VIDEOING\, AND THAT YOU MAY BE FEATURED IN THESE PHOTOS/VIDEOS. THESE PHOTOS/VIDEOS ARE FOR THE USE OF THE VENICE AREA CHAMBER OF COMMERCE ONLY AND COULD POSSIBLY BE FEATURED ON OUR SOCIAL MEDIA ACCOUNTS\, ON OUR WEBSITE\, AND/OR IN THE CHAMBER'S ADVERTISEMENTS AND PROMOTIONAL MATERIALS.
X-ALT-DESC;FMTTYPE=text/html:<strong>Our mission is to provide professional\, affordable\, and highly effective Behavior Therapy &amp\; counseling services to a wide range of clients.&nbsp\;<br />\n<br />\nWe offer Behavior Analysis Services\, Individual\, Couples &amp\; Family Counseling\, Professional Development\, and Social Services.&nbsp\; We are minority owned and bilingual: Fluent in English and Spanish.</strong><br />\n<br />\n<strong>Refreshments will be served.</strong><br />\n<br />\n<strong>As a courtesy&nbsp\;to our host\, if you have registered for this event and can no longer attend\, please let us know as reservations have been made in your name.</strong><br />\n<br />\n<em><span style="font-size:11px\;">*IT IS POSSIBLE AT ANY OF OUR CHAMBER EVENTS WE WILL BE TAKING PHOTOS AND/OR VIDEOING\, AND THAT YOU MAY BE FEATURED IN THESE PHOTOS/VIDEOS. THESE PHOTOS/VIDEOS ARE FOR THE USE OF THE VENICE AREA CHAMBER OF COMMERCE ONLY AND COULD POSSIBLY BE FEATURED ON OUR SOCIAL MEDIA ACCOUNTS\, ON OUR WEBSITE\, AND/OR IN THE CHAMBER&#39\;S ADVERTISEMENTS AND PROMOTIONAL MATERIALS.</span></em>
LOCATION:Vida Counseling Group 107 Milan Avenue E. Venice\, FL 34285
UID:e.3379.8461
SEQUENCE:3
DTSTAMP:20260424T064036Z
URL:https://business.venicechamber.com/events/details/ribbon-cutting-vida-counseling-group-august-8-2024-8461
END:VEVENT

END:VCALENDAR
