BEGIN:VCALENDAR
VERSION:2.0
PRODID:-//ChamberMaster//Event Calendar 2.0//EN
METHOD:PUBLISH
X-PUBLISHED-TTL:P3D
REFRESH-INTERVAL:P3D
CALSCALE:GREGORIAN
BEGIN:VEVENT
DTSTART:20240418T130000Z
DTEND:20240418T140000Z
X-MICROSOFT-CDO-ALLDAYEVENT:FALSE
SUMMARY:Ribbon Cutting Venice Tops April 18\, 2024
DESCRIPTION:What sets Venice Tops apart from its competitors is its unwavering commitment to exceptional customer service\, seamless communication\, and unparalleled craftsmanship.  With a steadfast dedication to delivering fast turnaround times and maintaining unwavering reliability\, Venice Tops consistently outshines its competition.\n\n\n\nRefreshments will be served!\n\n\n\n*IT IS POSSIBLE AT ANY OF OUR CHAMBER EVENTS WE WILL BE TAKING PHOTOS AND/OR VIDEOING\, AND THAT YOU MAY BE FEATURED IN THESE PHOTOS/VIDEOS. THESE PHOTOS/VIDEOS ARE FOR THE USE OF THE VENICE AREA CHAMBER OF COMMERCE ONLY AND COULD POSSIBLY BE FEATURED ON OUR SOCIAL MEDIA ACCOUNTS\, ON OUR WEBSITE\, AND/OR IN THE CHAMBER'S ADVERTISEMENTS AND PROMOTIONAL MATERIALS.
X-ALT-DESC;FMTTYPE=text/html:<p style="text-align: justify\;"><strong>What sets Venice Tops apart from its competitors is its unwavering commitment to exceptional customer service\, seamless communication\, and unparalleled craftsmanship.&nbsp\; With a steadfast dedication to delivering fast turnaround times and maintaining unwavering reliability\, Venice Tops consistently outshines its competition.</strong><br />\n<br />\n<strong>Refreshments will be served!</strong></p>\n\n<p style="text-align: justify\;"><br />\n<span style="font-size:11px\;"><em>*IT IS POSSIBLE AT ANY OF OUR CHAMBER EVENTS WE WILL BE TAKING PHOTOS AND/OR VIDEOING\, AND THAT YOU MAY BE FEATURED IN THESE PHOTOS/VIDEOS. THESE PHOTOS/VIDEOS ARE FOR THE USE OF THE VENICE AREA CHAMBER OF COMMERCE ONLY AND COULD POSSIBLY BE FEATURED ON OUR SOCIAL MEDIA ACCOUNTS\, ON OUR WEBSITE\, AND/OR IN THE CHAMBER&#39\;S ADVERTISEMENTS AND PROMOTIONAL MATERIALS.</em></span></p>\n
LOCATION:Venice Tops 247 James Street Venice\, FL 34285
UID:e.3379.8433
SEQUENCE:3
DTSTAMP:20260424T160245Z
URL:https://business.venicechamber.com/events/details/ribbon-cutting-venice-tops-april-18-2024-8433
END:VEVENT

END:VCALENDAR
