BEGIN:VCALENDAR
VERSION:2.0
PRODID:-//ChamberMaster//Event Calendar 2.0//EN
METHOD:PUBLISH
X-PUBLISHED-TTL:P3D
REFRESH-INTERVAL:P3D
CALSCALE:GREGORIAN
BEGIN:VEVENT
DTSTART:20241205T210000Z
DTEND:20241205T220000Z
X-MICROSOFT-CDO-ALLDAYEVENT:FALSE
SUMMARY:Ribbon Cutting Unique Cuisine December 5\, 2024
DESCRIPTION:We serve a fusion of eastern and western cuisine with a focus on using quality ingredients\, like free range chicken\, Pink shrimp\, grass fed beef\, and cooking without processed seed oils.\n\n\n\nRefreshments will be served.\n\n\n\nAs a courtesy to our host\, if you have registered for this event and can no longer attend\, please let us know as reservations have been made in your name.\n\n \n\nNotice of Photography and Videography\n\nPlease be aware that photographs and/or videos will be taken during our Chamber events. You may be featured in these photos/videos. These materials are intended solely for the use of the Venice Area Chamber of Commerce and may be featured on our social media accounts\, website\, and/or in the Chamber's advertisements and promotional materials.
X-ALT-DESC;FMTTYPE=text/html:<p style="box-sizing: inherit\; -webkit-font-smoothing: antialiased\; margin: 0px 0px 15px\; padding: 0px\; border: 0px\; font-variant-numeric: inherit\; font-variant-east-asian: inherit\; font-variant-alternates: inherit\; font-variant-position: inherit\; font-stretch: inherit\; font-size: 16px\; line-height: inherit\; font-family: Poppins\, -apple-system\, BlinkMacSystemFont\, &quot\;Segoe UI&quot\;\, Roboto\, Oxygen-Sans\, Ubuntu\, Cantarell\, &quot\;Helvetica Neue&quot\;\, sans-serif\; font-optical-sizing: inherit\; font-kerning: inherit\; font-feature-settings: inherit\; font-variation-settings: inherit\; vertical-align: baseline\; color: rgb(98\, 98\, 98)\; background-color: rgba(255\, 255\, 255\, 0.6)\;"><span style="color:#000000\;"><strong><span style="font-size:12px\;"><span style="font-family:arial\;">We serve a fusion of eastern and western cuisine with a focus on using quality ingredients\, like free range chicken\, Pink shrimp\, grass fed beef\, and cooking without processed seed oils.</span></span></strong></span><br />\n<br />\n<strong style="color: rgb(0\, 0\, 0)\; font-family: arial\; font-size: 12px\; background-color: rgba(255\, 255\, 255\, 0.6)\;">Refreshments will be served.</strong><br />\n<br />\n<span style="color:#000000\;"><span style="font-family:arial\;"><span style="font-size:12px\;"><strong>As a courtesy&nbsp\;to our host\, if you have registered for this event and can no longer attend\, please let us know as reservations have been made in your name.</strong></span></span></span><br />\n&nbsp\;</p>\n\n<p style="padding: 0px\; margin: 8px 0px 0px\; word-break: break-word\; font-size: 14px\; line-height: var(--cib-type-body1-line-height)\; font-variation-settings: var(--cib-type-body1-font-variation-settings)\; color: rgba(0\, 0\, 0\, 0.894)\; font-family: SegoeUIVariable\, SegoeUI\, &quot\;Segoe UI&quot\;\, &quot\;Helvetica Neue&quot\;\, Helvetica\, &quot\;Microsoft YaHei&quot\;\, &quot\;Meiryo UI&quot\;\, Meiryo\, &quot\;Arial Unicode MS&quot\;\, sans-serif\; background-color: rgb(243\, 243\, 243)\;"><em>Notice of Photography and Videography</em></p>\n\n<p style="padding: 0px\; margin: 8px 0px 0px\; word-break: break-word\; font-size: 14px\; line-height: var(--cib-type-body1-line-height)\; font-variation-settings: var(--cib-type-body1-font-variation-settings)\; color: rgba(0\, 0\, 0\, 0.894)\; font-family: SegoeUIVariable\, SegoeUI\, &quot\;Segoe UI&quot\;\, &quot\;Helvetica Neue&quot\;\, Helvetica\, &quot\;Microsoft YaHei&quot\;\, &quot\;Meiryo UI&quot\;\, Meiryo\, &quot\;Arial Unicode MS&quot\;\, sans-serif\; background-color: rgb(243\, 243\, 243)\;"><em>Please be aware that photographs and/or videos will be taken during our Chamber events. You may be featured in these photos/videos. These materials are intended solely for the use of the Venice Area Chamber of Commerce and may be featured on our social media accounts\, website\, and/or in the Chamber&rsquo\;s advertisements and promotional materials.</em></p>\n\n<div>&nbsp\;</div>\n
LOCATION:Unique Cuisine 200 N Tamiami Trail Suite D Venice FL 34285
UID:e.3379.8516
SEQUENCE:3
DTSTAMP:20260424T024830Z
URL:https://business.venicechamber.com/events/details/ribbon-cutting-unique-cuisine-december-5-2024-8516
END:VEVENT

END:VCALENDAR
