BEGIN:VCALENDAR
VERSION:2.0
PRODID:-//ChamberMaster//Event Calendar 2.0//EN
METHOD:PUBLISH
X-PUBLISHED-TTL:P3D
REFRESH-INTERVAL:P3D
CALSCALE:GREGORIAN
BEGIN:VEVENT
DTSTART:20190814T200000Z
DTEND:20190814T210000Z
X-MICROSOFT-CDO-ALLDAYEVENT:FALSE
SUMMARY:Ribbon Cutting Treviso Grand Apartments August 14\, 2019
DESCRIPTION:Ribbon Cutting at Treviso Grand Apartments
X-ALT-DESC;FMTTYPE=text/html:<span style="font-size:18px\;">Ribbon Cutting at Treviso Grand Apartments</span><br />\n&nbsp\;
LOCATION:Treviso Grand Apartments 100 Treviso Grand Circle North Venice FL 34275
UID:e.3379.1660
SEQUENCE:3
DTSTAMP:20260425T111136Z
URL:https://business.venicechamber.com/events/details/ribbon-cutting-treviso-grand-apartments-august-14-2019-1660
END:VEVENT

END:VCALENDAR
