BEGIN:VCALENDAR
VERSION:2.0
PRODID:-//ChamberMaster//Event Calendar 2.0//EN
METHOD:PUBLISH
X-PUBLISHED-TTL:P3D
REFRESH-INTERVAL:P3D
CALSCALE:GREGORIAN
BEGIN:VEVENT
DTSTART:20190815T200000Z
DTEND:20190815T210000Z
X-MICROSOFT-CDO-ALLDAYEVENT:FALSE
SUMMARY:Ribbon Cutting Total Therapy Florida August 15\, 2019
DESCRIPTION:Ribbon Cutting at Total Therapy Florida
X-ALT-DESC;FMTTYPE=text/html:<span style="font-size:18px\;">Ribbon Cutting at Total Therapy Florida</span><br />\n&nbsp\;
LOCATION:Total Therapy Florida 1499 E Venice Ave\, Unit A North Venice FL 34292
UID:e.3379.1661
SEQUENCE:3
DTSTAMP:20260425T110854Z
URL:https://business.venicechamber.com/events/details/ribbon-cutting-total-therapy-florida-august-15-2019-1661
END:VEVENT

END:VCALENDAR
