BEGIN:VCALENDAR
VERSION:2.0
PRODID:-//ChamberMaster//Event Calendar 2.0//EN
METHOD:PUBLISH
X-PUBLISHED-TTL:P3D
REFRESH-INTERVAL:P3D
CALSCALE:GREGORIAN
BEGIN:VEVENT
DTSTART:20220915T200000Z
DTEND:20220915T210000Z
X-MICROSOFT-CDO-ALLDAYEVENT:FALSE
SUMMARY:Ribbon Cutting The Happy Thrifter September 15\, 2022
DESCRIPTION:Please join us for a Ribbon Cutting to Welcome New Member\, The Happy Thrifter! The Ribbon Cutting will be held at the Venice Area Chamber of Commerce.  Refreshments will be served!\n\n\n\n"We publish the only resale guide in the area called The Happy Thrifter. We also are the "original" tour company that puts on these fun Mystery Resale/Thrifting Bus Tours. Our mission is "To Create awareness of the resale community" and we are putting "thrift shopping tourism" on the map as a resale adventure!"\n \n\nThe Venice Area Chamber of Commerce is committed to the health and safety of its members.  We are monitoring and following the latest direction as outlined by local\, state\, and federal officials.  We recommend that all attendees review and follow the latest guidance on the COVID-19 pandemic from the Centers for Disease Control and Prevention (CDC):  https://www.cdc.gov/coronavirus/2019-ncov/index.html\n\n\n\n \n\n*IT IS POSSIBLE AT ANY OF OUR CHAMBER EVENTS WE WILL BE TAKING PHOTOS AND/OR VIDEOING\, AND THAT YOU MAY BE FEATURED IN THESE PHOTOS/VIDEOS. THESE PHOTOS/VIDEOS ARE FOR THE USE OF THE VENICE AREA CHAMBER OF COMMERCE ONLY AND COULD POSSIBLY BE FEATURED ON OUR SOCIAL MEDIA ACCOUNTS\, ON OUR WEBSITE\, AND/OR IN THE CHAMBER?S ADVERTISEMENTS AND PROMOTIONAL MATERIALS.
X-ALT-DESC;FMTTYPE=text/html:<strong><span style="font-size:18px\;"><span style="font-family:arial\;">Please join us for a Ribbon Cutting to Welcome New Member\,&nbsp\;The Happy Thrifter!&nbsp\;The Ribbon Cutting will be held at the Venice Area Chamber of Commerce.&nbsp\;&nbsp\;Refreshments will be served!<br />\n<br />\n&quot\;We publish the only resale guide in the area called The Happy Thrifter. We also are the &quot\;original&quot\; tour company that puts on these fun Mystery Resale/Thrifting Bus Tours. Our mission is &quot\;To Create awareness of the resale community&quot\; and we are putting &quot\;thrift shopping tourism&quot\; on the map as a resale adventure!&rdquo\;</span></span></strong>\n<p>&nbsp\;</p>\n\n<p><strong><span style="font-family:calibri\,sans-serif\;"><span style="font-size:12.0pt\;">The Venice Area Chamber of Commerce is committed to the health and safety of its members.&nbsp\; We are monitoring and following the latest&nbsp\;direction as outlined&nbsp\;by local\, state\, and federal officials.&nbsp\; We recommend that all attendees review and follow the latest guidance on the COVID-19 pandemic from the Centers for Disease Control and Prevention (CDC):&nbsp\;&nbsp\;<u><a href="https://www.cdc.gov/coronavirus/2019-ncov/index.html"><span style="font-weight:normal\;">https://www.cdc.gov/coronavirus/2019-ncov/index.html</span></a></u></span></span></strong><br />\n<br />\n&nbsp\;<br />\n<em><strong><span style="text-transform:uppercase\;letter-spacing:1.5pt\;"><span style="color:black\;"><span style="font-family:helvetica\,sans-serif\;"><span style="font-size:7.0pt\;">*IT IS POSSIBLE AT ANY OF OUR CHAMBER EVENTS WE WILL BE TAKING PHOTOS AND/OR VIDEOING\, AND THAT YOU MAY BE FEATURED IN THESE PHOTOS/VIDEOS. THESE PHOTOS/VIDEOS ARE FOR THE USE OF THE VENICE AREA CHAMBER OF COMMERCE ONLY AND COULD POSSIBLY BE FEATURED ON OUR SOCIAL MEDIA ACCOUNTS\, ON OUR WEBSITE\, AND/OR IN THE CHAMBER?S ADVERTISEMENTS AND PROMOTIONAL MATERIALS.</span></span></span></span></strong></em><br />\n&nbsp\;</p>\n
LOCATION:Venice Area Chamber of Commerce 597 Tamiami Trail S Venice FL 34285
UID:e.3379.6616
SEQUENCE:3
DTSTAMP:20260420T040402Z
URL:https://business.venicechamber.com/events/details/ribbon-cutting-the-happy-thrifter-september-15-2022-6616
END:VEVENT

END:VCALENDAR
