BEGIN:VCALENDAR
VERSION:2.0
PRODID:-//ChamberMaster//Event Calendar 2.0//EN
METHOD:PUBLISH
X-PUBLISHED-TTL:P3D
REFRESH-INTERVAL:P3D
CALSCALE:GREGORIAN
BEGIN:VEVENT
DTSTART:20220623T200000Z
DTEND:20220623T220000Z
X-MICROSOFT-CDO-ALLDAYEVENT:FALSE
SUMMARY:Ribbon Cutting Sutton Place Capital Management June 23\, 2022
DESCRIPTION:Please join us for a Ribbon Cutting for Sutton Place Capital Management at the Venice Yacht Club!  You will not want to miss this elegant event!\n\n\n\nRefreshments and passed hors d'oeuvres will be served.\n\n\n\nSutton Place Capital provides a customized and unique experience for each of their clients. You'll have the opportunity to connect with your Adviser on a personal basis.  We create your investment portfolio based upon your near-term needs and long-term goals. Upon request\, we can tailor a portfolio to a client's preference such as intergenerational\, retirement\, or a socially responsible focus.\n\n\n\nWe have the flexibility to think outside of the box and deliver more personalized care. Larger firms tend to follow a strict formula\, but as a smaller firm\, we can be more nimble and react faster. In this volatile industry\, we encourage dialogue with our clients so that "we" do the worrying for you.\n\n\n\nThe Venice Area Chamber of Commerce is committed to the health and safety of its members.  We are monitoring and following the latest direction as outlined by local\, state\, and federal officials.  We recommend that all attendees review and follow the latest guidance on the COVID-19 pandemic from the Centers for Disease Control and Prevention (CDC):  https://www.cdc.gov/coronavirus/2019-ncov/index.html\n\n\n\n \n\n*IT IS POSSIBLE AT ANY OF OUR CHAMBER EVENTS WE WILL BE TAKING PHOTOS AND/OR VIDEOING\, AND THAT YOU MAY BE FEATURED IN THESE PHOTOS/VIDEOS. THESE PHOTOS/VIDEOS ARE FOR THE USE OF THE VENICE AREA CHAMBER OF COMMERCE ONLY AND COULD POSSIBLY BE FEATURED ON OUR SOCIAL MEDIA ACCOUNTS\, ON OUR WEBSITE\, AND/OR IN THE CHAMBER'S ADVERTISEMENTS AND PROMOTIONAL MATERIALS.
X-ALT-DESC;FMTTYPE=text/html:<strong><span style="font-size:18px\;">Please join us for a Ribbon Cutting for Sutton Place Capital Management at the Venice Yacht Club!&nbsp\; You will not want to miss this elegant event!<br />\n<br />\nRefreshments and passed hors d&#39\;oeuvres will be served.</span><br />\n<br />\n<span style="font-size:14px\;">Sutton Place Capital provides a customized and unique experience for each of their clients. You&rsquo\;ll have the opportunity to connect with your Adviser on a personal basis.&nbsp\; We create your investment portfolio based upon your near-term needs and long-term goals. Upon request\, we can tailor a portfolio to a client&rsquo\;s preference such as intergenerational\, retirement\, or a socially responsible focus.<br />\n<br />\nWe have the flexibility to think outside of the box and deliver more personalized care.&nbsp\;Larger firms tend to follow a strict formula\, but as a smaller firm\, we can be more nimble and react faster. In this volatile industry\, we encourage dialogue with our clients so that &quot\;we&quot\; do the worrying for you.</span></strong><br />\n<br />\n<strong><span style="font-family:calibri\,sans-serif\;"><span style="font-size:12.0pt\;">The Venice Area Chamber of Commerce is committed to the health and safety of its members.&nbsp\; We are monitoring and following the latest&nbsp\;direction as outlined&nbsp\;by local\, state\, and federal officials.&nbsp\; We recommend that all attendees review and follow the latest guidance on the COVID-19 pandemic from the Centers for Disease Control and Prevention (CDC):&nbsp\;&nbsp\;<u><a href="https://www.cdc.gov/coronavirus/2019-ncov/index.html"><span style="font-weight:normal\;">https://www.cdc.gov/coronavirus/2019-ncov/index.html</span></a></u></span></span></strong><br />\n<br />\n&nbsp\;<br />\n<em><strong><span style="text-transform:uppercase\;letter-spacing:1.5pt\;"><span style="color:black\;"><span style="font-family:helvetica\,sans-serif\;"><span style="font-size:7.0pt\;">*IT IS POSSIBLE AT ANY OF OUR CHAMBER EVENTS WE WILL BE TAKING PHOTOS AND/OR VIDEOING\, AND THAT YOU MAY BE FEATURED IN THESE PHOTOS/VIDEOS. THESE PHOTOS/VIDEOS ARE FOR THE USE OF THE VENICE AREA CHAMBER OF COMMERCE ONLY AND COULD POSSIBLY BE FEATURED ON OUR SOCIAL MEDIA ACCOUNTS\, ON OUR WEBSITE\, AND/OR IN THE CHAMBER&rsquo\;S ADVERTISEMENTS AND PROMOTIONAL MATERIALS.</span></span></span></span></strong></em><br />\n&nbsp\;
LOCATION:Venice Yacht Club 1330 Tarpon Center Dr Venice FL 34285
UID:e.3379.6568
SEQUENCE:3
DTSTAMP:20260419T230648Z
URL:https://business.venicechamber.com/events/details/ribbon-cutting-sutton-place-capital-management-june-23-2022-6568
END:VEVENT

END:VCALENDAR
