BEGIN:VCALENDAR
VERSION:2.0
PRODID:-//ChamberMaster//Event Calendar 2.0//EN
METHOD:PUBLISH
X-PUBLISHED-TTL:P3D
REFRESH-INTERVAL:P3D
CALSCALE:GREGORIAN
BEGIN:VEVENT
DTSTART:20240418T200000Z
DTEND:20240418T210000Z
X-MICROSOFT-CDO-ALLDAYEVENT:FALSE
SUMMARY:Ribbon Cutting Sound Alternative April 18\, 2024
DESCRIPTION:Our background as corporate women\, musicians and energy healers enables us to empathize and provide customized solutions from a variety of holistic wellness services for the professionals we work with.\n\n\n\nAttendees will have a chance to win a $195 Release & Relax package!  \n\n\n\n*IT IS POSSIBLE AT ANY OF OUR CHAMBER EVENTS WE WILL BE TAKING PHOTOS AND/OR VIDEOING\, AND THAT YOU MAY BE FEATURED IN THESE PHOTOS/VIDEOS. THESE PHOTOS/VIDEOS ARE FOR THE USE OF THE VENICE AREA CHAMBER OF COMMERCE ONLY AND COULD POSSIBLY BE FEATURED ON OUR SOCIAL MEDIA ACCOUNTS\, ON OUR WEBSITE\, AND/OR IN THE CHAMBER'S ADVERTISEMENTS AND PROMOTIONAL MATERIALS.
X-ALT-DESC;FMTTYPE=text/html:<p><strong>Our background as corporate women\, musicians and energy healers enables us to empathize and provide customized solutions from a variety of holistic wellness services for the professionals we work with.<br />\n<br />\nAttendees will have a chance to win a $195 Release &amp\; Relax package!&nbsp\;&nbsp\;</strong></p>\n\n<p style="text-align: justify\;"><br />\n<span style="font-size:11px\;"><em>*IT IS POSSIBLE AT ANY OF OUR CHAMBER EVENTS WE WILL BE TAKING PHOTOS AND/OR VIDEOING\, AND THAT YOU MAY BE FEATURED IN THESE PHOTOS/VIDEOS. THESE PHOTOS/VIDEOS ARE FOR THE USE OF THE VENICE AREA CHAMBER OF COMMERCE ONLY AND COULD POSSIBLY BE FEATURED ON OUR SOCIAL MEDIA ACCOUNTS\, ON OUR WEBSITE\, AND/OR IN THE CHAMBER&#39\;S ADVERTISEMENTS AND PROMOTIONAL MATERIALS.</em></span></p>\n
LOCATION:Venice Area Chamber of Commerce 597 Tamiami Trail S Venice\, FL 34285
UID:e.3379.8424
SEQUENCE:3
DTSTAMP:20260424T160349Z
URL:https://business.venicechamber.com/events/details/ribbon-cutting-sound-alternative-april-18-2024-8424
END:VEVENT

END:VCALENDAR
