BEGIN:VCALENDAR
VERSION:2.0
PRODID:-//ChamberMaster//Event Calendar 2.0//EN
METHOD:PUBLISH
X-PUBLISHED-TTL:P3D
REFRESH-INTERVAL:P3D
CALSCALE:GREGORIAN
BEGIN:VEVENT
DTSTART:20220607T200000Z
DTEND:20220607T210000Z
X-MICROSOFT-CDO-ALLDAYEVENT:FALSE
SUMMARY:Ribbon Cutting Snowbirds Grille June 7\, 2022
DESCRIPTION:Please join us for a Ribbon Cutting for Snowbirds Grille!  \n\n\n\nHere is a little bit about Snowbirds Grille's Northern Favorites and Local Flavors concept-\n\nWe've built our menu and concept around serving up amazingly delicious and authentic food inspired by Northern favorites and local flavors.\n\n\n\nJust like Snowbirds flock from many different places to come to Venice\, FL\, we take dishes from all over and make them as authentically and deliciously as possible and bring them all to one place.\n\n\n\nOriginally from the Washington\, DC area\, we have called Venice home since 2012. Great food and great service is our passion. Whether you're looking for a taste of home\, local flavors\, or looking to try something new\, we know you'll enjoy! It's our pleasure serving you!\n\n \n\nWe hope you will join us in the celebration!\n\n\n\nThe Venice Area Chamber of Commerce is committed to the health and safety of its members.  We are monitoring and following the latest direction as outlined by local\, state\, and federal officials.  We recommend that all attendees review and follow the latest guidance on the COVID-19 pandemic from the Centers for Disease Control and Prevention (CDC):  https://www.cdc.gov/coronavirus/2019-ncov/index.html\n\n\n\n \n\n*IT IS POSSIBLE AT ANY OF OUR CHAMBER EVENTS WE WILL BE TAKING PHOTOS AND/OR VIDEOING\, AND THAT YOU MAY BE FEATURED IN THESE PHOTOS/VIDEOS. THESE PHOTOS/VIDEOS ARE FOR THE USE OF THE VENICE AREA CHAMBER OF COMMERCE ONLY AND COULD POSSIBLY BE FEATURED ON OUR SOCIAL MEDIA ACCOUNTS\, ON OUR WEBSITE\, AND/OR IN THE CHAMBER'S ADVERTISEMENTS AND PROMOTIONAL MATERIALS.
X-ALT-DESC;FMTTYPE=text/html:<strong><span style="font-size:18px\;">Please join us for a Ribbon Cutting for&nbsp\;Snowbirds Grille</span></strong><span style="font-size:18px\;"><strong>!&nbsp\;&nbsp\;</strong></span><br />\n<br />\n<span style="font-size:16px\;"><strong><span style="color:black\;"><span style="font-family:arial\,sans-serif\;">Here is a little bit about Snowbirds Grille&rsquo\;s Northern Favorites and Local Flavors concept-</span></span><br />\n<em><span style="color:black\;"><span style="font-family:arial\,sans-serif\;">We&#39\;ve built our menu and concept around serving up amazingly delicious and authentic food inspired by Northern favorites and local flavors.</span></span></em><br />\n<br />\n<em><span style="color:black\;"><span style="font-family:arial\,sans-serif\;">Just like Snowbirds flock from many different places to come to Venice\, FL\, we take dishes from all over and make them as authentically and deliciously as possible and bring them all to one place.</span></span></em><br />\n<br />\n<em><span style="color:black\;"><span style="font-family:arial\,sans-serif\;">Originally from the Washington\, DC area\, we have called Venice home since 2012. Great food and great service is our passion. Whether you&#39\;re looking for a taste of home\, local flavors\, or looking to try something new\, we know you&#39\;ll enjoy! It&#39\;s our pleasure serving you!</span></span></em><br />\n&nbsp\;</strong></span><br />\n<strong><span style="font-size:18px\;">We hope you will join us in the celebration!</span></strong><br />\n<br />\n<strong><span style="font-family:calibri\,sans-serif\;"><span style="font-size:12.0pt\;">The Venice Area Chamber of Commerce is committed to the health and safety of its members.&nbsp\; We are monitoring and following the latest&nbsp\;direction as outlined&nbsp\;by local\, state\, and federal officials.&nbsp\; We recommend that all attendees review and follow the latest guidance on the COVID-19 pandemic from the Centers for Disease Control and Prevention (CDC):&nbsp\;&nbsp\;<u><a href="https://www.cdc.gov/coronavirus/2019-ncov/index.html"><span style="font-weight:normal\;">https://www.cdc.gov/coronavirus/2019-ncov/index.html</span></a></u></span></span></strong><br />\n<br />\n&nbsp\;<br />\n<em><strong><span style="text-transform:uppercase\;letter-spacing:1.5pt\;"><span style="color:black\;"><span style="font-family:helvetica\,sans-serif\;"><span style="font-size:7.0pt\;">*IT IS POSSIBLE AT ANY OF OUR CHAMBER EVENTS WE WILL BE TAKING PHOTOS AND/OR VIDEOING\, AND THAT YOU MAY BE FEATURED IN THESE PHOTOS/VIDEOS. THESE PHOTOS/VIDEOS ARE FOR THE USE OF THE VENICE AREA CHAMBER OF COMMERCE ONLY AND COULD POSSIBLY BE FEATURED ON OUR SOCIAL MEDIA ACCOUNTS\, ON OUR WEBSITE\, AND/OR IN THE CHAMBER&rsquo\;S ADVERTISEMENTS AND PROMOTIONAL MATERIALS.</span></span></span></span></strong></em><br />\n&nbsp\;
LOCATION:Snowbirds Grille 4167 Tamiami Trail Venice FL 34293
UID:e.3379.6587
SEQUENCE:3
DTSTAMP:20260419T230259Z
URL:https://business.venicechamber.com/events/details/ribbon-cutting-snowbirds-grille-june-7-2022-6587
END:VEVENT

END:VCALENDAR
