BEGIN:VCALENDAR
VERSION:2.0
PRODID:-//ChamberMaster//Event Calendar 2.0//EN
METHOD:PUBLISH
X-PUBLISHED-TTL:P3D
REFRESH-INTERVAL:P3D
CALSCALE:GREGORIAN
BEGIN:VEVENT
DTSTART:20190603T200000Z
DTEND:20190603T210000Z
X-MICROSOFT-CDO-ALLDAYEVENT:FALSE
SUMMARY:Ribbon Cutting Silverlight Insurance Agency June 3\, 2019
DESCRIPTION:Ribbon Cutting at Silverlight Insurance Agency
X-ALT-DESC;FMTTYPE=text/html:<span style="font-size:18px\;">Ribbon Cutting at Silverlight Insurance Agency</span><br />\n&nbsp\;
LOCATION:Silverlight Insurance Agency 4105-1 Tamiami Trail S Venice FL 34293
UID:e.3379.1292
SEQUENCE:3
DTSTAMP:20260425T140450Z
URL:https://business.venicechamber.com/events/details/ribbon-cutting-silverlight-insurance-agency-june-3-2019-1292
END:VEVENT

END:VCALENDAR
