BEGIN:VCALENDAR
VERSION:2.0
PRODID:-//ChamberMaster//Event Calendar 2.0//EN
METHOD:PUBLISH
X-PUBLISHED-TTL:P3D
REFRESH-INTERVAL:P3D
CALSCALE:GREGORIAN
BEGIN:VEVENT
DTSTART:20221215T210000Z
DTEND:20221215T220000Z
X-MICROSOFT-CDO-ALLDAYEVENT:FALSE
SUMMARY:Ribbon Cutting Seed and Bean Market Venice December 15\, 2022
DESCRIPTION:Please join us for a Ribbon Cutting at Seed and Bean Market Venice!  \n\n\n\nThe first CBD marketplace of its kind\, we are dedicated to offering only the highest quality foods and beverages\, thoroughly tested CBD products\, and the chillest atmosphere in the region.  As industry innovators with a unique niche\, our philosophy is simple:  Our community is our home\, and our customers are our family. \n\n\n\nThere are two Seed and Bean Market locations.  One is located in downtown Fort Myers\, Florida and the second is located in Venice\, Florida.\n\n\n\nRefreshments will be served.  We hope you will join us in celebration!\n\n\n\nThe Venice Area Chamber of Commerce is committed to the health and safety of its members.  We are monitoring and following the latest direction as outlined by local\, state\, and federal officials.  We recommend that all attendees review and follow the latest guidance on the COVID-19 pandemic from the Centers for Disease Control and Prevention (CDC):  https://www.cdc.gov/coronavirus/2019-ncov/index.html\n\n\n\n \n\n*IT IS POSSIBLE AT ANY OF OUR CHAMBER EVENTS WE WILL BE TAKING PHOTOS AND/OR VIDEOING\, AND THAT YOU MAY BE FEATURED IN THESE PHOTOS/VIDEOS. THESE PHOTOS/VIDEOS ARE FOR THE USE OF THE VENICE AREA CHAMBER OF COMMERCE ONLY AND COULD POSSIBLY BE FEATURED ON OUR SOCIAL MEDIA ACCOUNTS\, ON OUR WEBSITE\, AND/OR IN THE CHAMBER'S ADVERTISEMENTS AND PROMOTIONAL MATERIALS.
X-ALT-DESC;FMTTYPE=text/html:<p><strong><span style="font-size:18px\;">Please join us for a Ribbon Cutting at Seed and Bean Market Venice!&nbsp\;&nbsp\;<br />\n<br />\n<em>The first CBD marketplace of its kind\, we are dedicated to offering only the highest quality foods and beverages\, thoroughly tested CBD products\, and the chillest atmosphere in the region.&nbsp\; As industry innovators with a unique niche\, our philosophy is simple:&nbsp\; Our community is our home\, and our customers are our family.&nbsp\;<br />\n<br />\nThere are two Seed and Bean Market locations.&nbsp\; One is located in downtown Fort Myers\, Florida and the second is located in Venice\, Florida.</em><br />\n<br />\nRefreshments will be served.&nbsp\; We hope you will join us in celebration!</span></strong><br />\n<br />\n<strong><span style="font-family:calibri\,sans-serif\;"><span style="font-size:12.0pt\;">The Venice Area Chamber of Commerce is committed to the health and safety of its members.&nbsp\; We are monitoring and following the latest&nbsp\;direction as outlined&nbsp\;by local\, state\, and federal officials.&nbsp\; We recommend that all attendees review and follow the latest guidance on the COVID-19 pandemic from the Centers for Disease Control and Prevention (CDC):&nbsp\;&nbsp\;<u><a href="https://www.cdc.gov/coronavirus/2019-ncov/index.html"><span style="font-weight:normal\;">https://www.cdc.gov/coronavirus/2019-ncov/index.html</span></a></u></span></span></strong></p>\n\n<p><br />\n&nbsp\;<br />\n<em><strong><span style="text-transform:uppercase\;letter-spacing:1.5pt\;"><span style="color:black\;"><span style="font-family:helvetica\,sans-serif\;"><span style="font-size:7.0pt\;">*IT IS POSSIBLE AT ANY OF OUR CHAMBER EVENTS WE WILL BE TAKING PHOTOS AND/OR VIDEOING\, AND THAT YOU MAY BE FEATURED IN THESE PHOTOS/VIDEOS. THESE PHOTOS/VIDEOS ARE FOR THE USE OF THE VENICE AREA CHAMBER OF COMMERCE ONLY AND COULD POSSIBLY BE FEATURED ON OUR SOCIAL MEDIA ACCOUNTS\, ON OUR WEBSITE\, AND/OR IN THE CHAMBER&rsquo\;S ADVERTISEMENTS AND PROMOTIONAL MATERIALS.</span></span></span></span></strong></em><br />\n&nbsp\;</p>\n
LOCATION:Seed and Bean Market Venice 116 W Venice Ave Venice FL 34285
UID:e.3379.6619
SEQUENCE:3
DTSTAMP:20260420T083729Z
URL:https://business.venicechamber.com/events/details/ribbon-cutting-seed-and-bean-market-venice-december-15-2022-6619
END:VEVENT

END:VCALENDAR
