BEGIN:VCALENDAR
VERSION:2.0
PRODID:-//ChamberMaster//Event Calendar 2.0//EN
METHOD:PUBLISH
X-PUBLISHED-TTL:P3D
REFRESH-INTERVAL:P3D
CALSCALE:GREGORIAN
BEGIN:VEVENT
DTSTART:20220328T200000Z
DTEND:20220328T210000Z
X-MICROSOFT-CDO-ALLDAYEVENT:FALSE
SUMMARY:Ribbon Cutting S N J Simply Fit March 28\, 2022
DESCRIPTION:Please join us for a Ribbon Cutting at S N J Simply Fit!\n\n\n\nS N J Simplyfit has been operating since June of 2020. They were developed with an understanding that people wanted a smaller\, more intimate experience with fitness instead of the big box gyms. With a combined 25 plus years in the health and fitness industry\, Jerry and Sandy bring a unique approach to traditional personal training.  They meet clients where they are in regards to disease\, obesity and or disabilities and guide them where they can go in strength and endurance. Jerry holds a license in Physical therapy assisting as well as Certified Personal training. Sandy is certified in corrective exercise specialization\, personal training\, group exercise\, core training and much\, much more.\n\n\n\nFree healthy hors d'oeuvre and drinks offered.  Free class demonstration. Free functional fitness assessment.  Raffle for free class and personal training session!\n\n\n\nThe Venice Area Chamber of Commerce is committed to the health and safety of its members.  We are monitoring and following the latest direction as outlined by local\, state\, and federal officials.  We recommend that all attendees review and follow the latest guidance on the COVID-19 pandemic from the Centers for Disease Control and Prevention (CDC):  https://www.cdc.gov/coronavirus/2019-ncov/index.html\n\n\n\n \n\n*IT IS POSSIBLE AT ANY OF OUR CHAMBER EVENTS WE WILL BE TAKING PHOTOS AND/OR VIDEOING\, AND THAT YOU MAY BE FEATURED IN THESE PHOTOS/VIDEOS. THESE PHOTOS/VIDEOS ARE FOR THE USE OF THE VENICE AREA CHAMBER OF COMMERCE ONLY AND COULD POSSIBLY BE FEATURED ON OUR SOCIAL MEDIA ACCOUNTS\, ON OUR WEBSITE\, AND/OR IN THE CHAMBER'S ADVERTISEMENTS AND PROMOTIONAL MATERIALS.
X-ALT-DESC;FMTTYPE=text/html:<strong><span style="font-size:18px\;">Please join us for a Ribbon Cutting at S N J Simply Fit!<br />\n<br />\nS N J Simplyfit has been operating since June of 2020. They were developed with an understanding that people wanted a smaller\, more intimate experience&nbsp\;with fitness instead of the big box gyms. With a combined 25 plus years in the health and fitness industry\, Jerry and Sandy bring a unique approach to traditional personal training.&nbsp\; They meet clients where they are in regards to disease\, obesity and or disabilities&nbsp\;and guide them where they can go in strength and endurance. Jerry holds a license in Physical therapy&nbsp\;assisting as well as Certified Personal training. Sandy is certified in corrective exercise specialization\, personal training\, group exercise\, core training and much\, much more.</span></strong><br />\n<br />\n<span style="font-size:18px\;"><strong>Free healthy hors d&#39\;oeuvre and drinks offered.&nbsp\; Free class demonstration. Free functional fitness assessment.&nbsp\; Raffle for free class and personal training session!</strong></span><br />\n<br />\n<strong><span style="font-family:calibri\,sans-serif\;"><span style="font-size:12.0pt\;">The Venice Area Chamber of Commerce is committed to the health and safety of its members.&nbsp\; We are monitoring and following the latest&nbsp\;direction as outlined&nbsp\;by local\, state\, and federal officials.&nbsp\; We recommend that all attendees review and follow the latest guidance on the COVID-19 pandemic from the Centers for Disease Control and Prevention (CDC):&nbsp\;&nbsp\;<u><a href="https://www.cdc.gov/coronavirus/2019-ncov/index.html"><span style="font-weight:normal\;">https://www.cdc.gov/coronavirus/2019-ncov/index.html</span></a></u></span></span></strong><br />\n<br />\n&nbsp\;<br />\n<em><strong><span style="text-transform:uppercase\;letter-spacing:1.5pt\;"><span style="color:black\;"><span style="font-family:helvetica\,sans-serif\;"><span style="font-size:7.0pt\;">*IT IS POSSIBLE AT ANY OF OUR CHAMBER EVENTS WE WILL BE TAKING PHOTOS AND/OR VIDEOING\, AND THAT YOU MAY BE FEATURED IN THESE PHOTOS/VIDEOS. THESE PHOTOS/VIDEOS ARE FOR THE USE OF THE VENICE AREA CHAMBER OF COMMERCE ONLY AND COULD POSSIBLY BE FEATURED ON OUR SOCIAL MEDIA ACCOUNTS\, ON OUR WEBSITE\, AND/OR IN THE CHAMBER&rsquo\;S ADVERTISEMENTS AND PROMOTIONAL MATERIALS.</span></span></span></span></strong></em><br />\n&nbsp\;
LOCATION:S N J Simply Fit 420 Nokomis Avenue S Venice FL 34285 (Located on the second floor in the Venice Health Institute)
UID:e.3379.6565
SEQUENCE:3
DTSTAMP:20260419T175853Z
URL:https://business.venicechamber.com/events/details/ribbon-cutting-s-n-j-simply-fit-march-28-2022-6565
END:VEVENT

END:VCALENDAR
