BEGIN:VCALENDAR
VERSION:2.0
PRODID:-//ChamberMaster//Event Calendar 2.0//EN
METHOD:PUBLISH
X-PUBLISHED-TTL:P3D
REFRESH-INTERVAL:P3D
CALSCALE:GREGORIAN
BEGIN:VEVENT
DTSTART:20221208T210000Z
DTEND:20221208T220000Z
X-MICROSOFT-CDO-ALLDAYEVENT:FALSE
SUMMARY:Ribbon Cutting Oasis Med Spa December 8\, 2022
DESCRIPTION:Please join us for a Ribbon Cutting for Oasis Med Spa!  \n\n\n\n"We are a Med Spa with a Doctor and Aesthetic Nurse on staff who provide treatments specializing in Dry Eye Disease and non-surgical lid procedures (non-surgical blepharoplasty).  We also provide a wide range of skin rejuvenation treatments including IPL\, Non-Ablative Laser\, Botox\, Microneeedling with RF\, Hydrodermabrasion Facial\, Microdermabrasion\, Waxing and more".  \n\n\n\nRibbon Cutting is at 4:00 PM.  \n\n\n\nThe Venice Area Chamber of Commerce is committed to the health and safety of its members.  We are monitoring and following the latest direction as outlined by local\, state\, and federal officials.  We recommend that all attendees review and follow the latest guidance on the COVID-19 pandemic from the Centers for Disease Control and Prevention (CDC):  https://www.cdc.gov/coronavirus/2019-ncov/index.html\n\n\n\n \n\n*IT IS POSSIBLE AT ANY OF OUR CHAMBER EVENTS WE WILL BE TAKING PHOTOS AND/OR VIDEOING\, AND THAT YOU MAY BE FEATURED IN THESE PHOTOS/VIDEOS. THESE PHOTOS/VIDEOS ARE FOR THE USE OF THE VENICE AREA CHAMBER OF COMMERCE ONLY AND COULD POSSIBLY BE FEATURED ON OUR SOCIAL MEDIA ACCOUNTS\, ON OUR WEBSITE\, AND/OR IN THE CHAMBER'S ADVERTISEMENTS AND PROMOTIONAL MATERIALS.
X-ALT-DESC;FMTTYPE=text/html:<p><strong><span style="font-size:18px\;">Please join us for a Ribbon Cutting for Oasis Med Spa!&nbsp\;&nbsp\;<br />\n<br />\n<em>&quot\;We are a Med Spa with a&nbsp\;Doctor and Aesthetic Nurse on staff who provide treatments specializing in Dry Eye Disease and non-surgical lid procedures (non-surgical blepharoplasty).&nbsp\; We also provide a wide range of skin rejuvenation treatments including IPL\, Non-Ablative Laser\, Botox\, Microneeedling with RF\, Hydrodermabrasion Facial\, Microdermabrasion\, Waxing and more&quot\;.&nbsp\;&nbsp\;</em><br />\n<br />\nR</span></strong><span data-uw-styling-context="true" style="box-sizing: border-box\; font-weight: bolder\; color: rgb(68\, 68\, 68)\; font-family: Arial\, Helvetica\, sans-serif\; font-size: 18px\;">ibbon Cutting is at 4:00 PM.&nbsp\;&nbsp\;</span><br />\n<br />\n<strong><span style="font-family:calibri\,sans-serif\;"><span style="font-size:12.0pt\;">The Venice Area Chamber of Commerce is committed to the health and safety of its members.&nbsp\; We are monitoring and following the latest&nbsp\;direction as outlined&nbsp\;by local\, state\, and federal officials.&nbsp\; We recommend that all attendees review and follow the latest guidance on the COVID-19 pandemic from the Centers for Disease Control and Prevention (CDC):&nbsp\;&nbsp\;<u><a href="https://www.cdc.gov/coronavirus/2019-ncov/index.html"><span style="font-weight:normal\;">https://www.cdc.gov/coronavirus/2019-ncov/index.html</span></a></u></span></span></strong><br />\n<br />\n&nbsp\;<br />\n<em><strong><span style="text-transform:uppercase\;letter-spacing:1.5pt\;"><span style="color:black\;"><span style="font-family:helvetica\,sans-serif\;"><span style="font-size:7.0pt\;">*IT IS POSSIBLE AT ANY OF OUR CHAMBER EVENTS WE WILL BE TAKING PHOTOS AND/OR VIDEOING\, AND THAT YOU MAY BE FEATURED IN THESE PHOTOS/VIDEOS. THESE PHOTOS/VIDEOS ARE FOR THE USE OF THE VENICE AREA CHAMBER OF COMMERCE ONLY AND COULD POSSIBLY BE FEATURED ON OUR SOCIAL MEDIA ACCOUNTS\, ON OUR WEBSITE\, AND/OR IN THE CHAMBER&rsquo\;S ADVERTISEMENTS AND PROMOTIONAL MATERIALS.</span></span></span></span></strong></em><br />\n&nbsp\;</p>\n
LOCATION:Oasis Eye Care\, Optical & Med Spa 1868 S. Tamiami Trail Venice FL 34293
UID:e.3379.6645
SEQUENCE:3
DTSTAMP:20260420T080826Z
URL:https://business.venicechamber.com/events/details/ribbon-cutting-oasis-med-spa-december-8-2022-6645
END:VEVENT

END:VCALENDAR
