BEGIN:VCALENDAR
VERSION:2.0
PRODID:-//ChamberMaster//Event Calendar 2.0//EN
METHOD:PUBLISH
X-PUBLISHED-TTL:P3D
REFRESH-INTERVAL:P3D
CALSCALE:GREGORIAN
BEGIN:VEVENT
DTSTART:20200313T200000Z
DTEND:20200313T210000Z
X-MICROSOFT-CDO-ALLDAYEVENT:FALSE
SUMMARY:Ribbon Cutting Neal Communities March 13\, 2020
DESCRIPTION:Please join us for a Ribbon Cutting at Neal Communities - Cielo Community!
X-ALT-DESC;FMTTYPE=text/html:<span style="font-size:18px\;">Please join us for a Ribbon Cutting at Neal Communities - Cielo Community!</span><br />\n&nbsp\;
LOCATION:Neal Communities Cielo Community 220 Corsano Drive Venice FL 34275
UID:e.3379.1702
SEQUENCE:3
DTSTAMP:20260425T011845Z
URL:https://business.venicechamber.com/events/details/ribbon-cutting-neal-communities-march-13-2020-1702
END:VEVENT

END:VCALENDAR
