BEGIN:VCALENDAR
VERSION:2.0
PRODID:-//ChamberMaster//Event Calendar 2.0//EN
METHOD:PUBLISH
X-PUBLISHED-TTL:P3D
REFRESH-INTERVAL:P3D
CALSCALE:GREGORIAN
BEGIN:VEVENT
DTSTART:20200714T130000Z
DTEND:20200714T140000Z
X-MICROSOFT-CDO-ALLDAYEVENT:FALSE
SUMMARY:Ribbon Cutting Neal Communities July 14\, 2020
DESCRIPTION:Please join us for a Ribbon Cutting at Neal Communities - Vicenza Community!
X-ALT-DESC;FMTTYPE=text/html:<span style="font-size:18px\;">Please join us for a Ribbon Cutting at Neal Communities - Vicenza Community!</span><br />\n&nbsp\;
LOCATION:Neal Communities Vicenza Community 217 Ortelle Terrace Nokomis FL 34275
UID:e.3379.1923
SEQUENCE:3
DTSTAMP:20260424T172049Z
URL:https://business.venicechamber.com/events/details/ribbon-cutting-neal-communities-july-14-2020-1923
END:VEVENT

END:VCALENDAR
