BEGIN:VCALENDAR
VERSION:2.0
PRODID:-//ChamberMaster//Event Calendar 2.0//EN
METHOD:PUBLISH
X-PUBLISHED-TTL:P3D
REFRESH-INTERVAL:P3D
CALSCALE:GREGORIAN
BEGIN:VEVENT
DTSTART:20191205T213000Z
DTEND:20191206T003000Z
X-MICROSOFT-CDO-ALLDAYEVENT:FALSE
SUMMARY:Ribbon Cutting MonarchDIRECT December 5\, 2019
DESCRIPTION:Please join MonarchDIRECT for a Ribbon Cutting!
X-ALT-DESC;FMTTYPE=text/html:<span style="font-size:18px\;">Please join MonarchDIRECT for a Ribbon Cutting!</span><br />\n&nbsp\;
LOCATION:MonarchDIRECT 1264 Market Circle Unit 6 Port Charlotte\, FL 33953
UID:e.3379.1830
SEQUENCE:3
DTSTAMP:20260425T041133Z
URL:https://business.venicechamber.com/events/details/ribbon-cutting-monarchdirect-december-5-2019-1830
END:VEVENT

END:VCALENDAR
