BEGIN:VCALENDAR
VERSION:2.0
PRODID:-//ChamberMaster//Event Calendar 2.0//EN
METHOD:PUBLISH
X-PUBLISHED-TTL:P3D
REFRESH-INTERVAL:P3D
CALSCALE:GREGORIAN
BEGIN:VEVENT
DTSTART:20240730T130000Z
DTEND:20240730T140000Z
X-MICROSOFT-CDO-ALLDAYEVENT:FALSE
SUMMARY:Ribbon Cutting Loveland Center July 30\, 2024
DESCRIPTION:Loveland Center is a nonprofit serving children and adults with intellectual and developmental disabilities.  Loveland encourage a "Dare to Dream" philosophy with our participants!  Loveland offers a full rage of programs and services including Adult Day Training\, Supported Employment\, After School Care\, Recreational Activities\, Independent Living Coaching\, Personal Supports and More!\n\n\n\nRefreshments will be served.\n\n\n\nAs a courtesy to our host\, if you have registered for this event and can no longer attend\, please let us know as reservations have been made in your name.\n\n\n\n\n\n*IT IS POSSIBLE AT ANY OF OUR CHAMBER EVENTS WE WILL BE TAKING PHOTOS AND/OR VIDEOING\, AND THAT YOU MAY BE FEATURED IN THESE PHOTOS/VIDEOS. THESE PHOTOS/VIDEOS ARE FOR THE USE OF THE VENICE AREA CHAMBER OF COMMERCE ONLY AND COULD POSSIBLY BE FEATURED ON OUR SOCIAL MEDIA ACCOUNTS\, ON OUR WEBSITE\, AND/OR IN THE CHAMBER'S ADVERTISEMENTS AND PROMOTIONAL MATERIALS.
X-ALT-DESC;FMTTYPE=text/html:<strong>Loveland Center is a nonprofit serving children and adults with intellectual and developmental disabilities.&nbsp\; Loveland encourage a &quot\;Dare to Dream&quot\; philosophy with our participants!&nbsp\; Loveland offers a full rage of programs and services including Adult Day Training\, Supported Employment\, After School Care\, Recreational Activities\, Independent Living Coaching\, Personal Supports and More!</strong><br />\n<br />\n<strong>Refreshments will be served.<br />\n<br />\nAs a courtesy&nbsp\;to our host\, if you have registered for this event and can no longer attend\, please let us know as reservations have been made in your name.</strong><br />\n<br />\n<br />\n<em><span style="font-size:11px\;">*IT IS POSSIBLE AT ANY OF OUR CHAMBER EVENTS WE WILL BE TAKING PHOTOS AND/OR VIDEOING\, AND THAT YOU MAY BE FEATURED IN THESE PHOTOS/VIDEOS. THESE PHOTOS/VIDEOS ARE FOR THE USE OF THE VENICE AREA CHAMBER OF COMMERCE ONLY AND COULD POSSIBLY BE FEATURED ON OUR SOCIAL MEDIA ACCOUNTS\, ON OUR WEBSITE\, AND/OR IN THE CHAMBER&#39\;S ADVERTISEMENTS AND PROMOTIONAL MATERIALS.</span></em>
LOCATION:Loveland Center 157 Havana Rd Venice\, FL 34292
UID:e.3379.8463
SEQUENCE:3
DTSTAMP:20260424T094517Z
URL:https://business.venicechamber.com/events/details/ribbon-cutting-loveland-center-july-30-2024-8463
END:VEVENT

END:VCALENDAR
