BEGIN:VCALENDAR
VERSION:2.0
PRODID:-//ChamberMaster//Event Calendar 2.0//EN
METHOD:PUBLISH
X-PUBLISHED-TTL:P3D
REFRESH-INTERVAL:P3D
CALSCALE:GREGORIAN
BEGIN:VEVENT
DTSTART:20241120T210000Z
DTEND:20241120T220000Z
X-MICROSOFT-CDO-ALLDAYEVENT:FALSE
SUMMARY:Ribbon Cutting Liberty Savings Bank November 20\, 2024
DESCRIPTION:Celebrating our commitment to the Venice community for 27 years!!!\n\n \n\nAs a courtesy to our host\, if you have registered for this event and can no longer attend\, please let us know as reservations have been made in your name.\n\n\n\nRefreshments will be served.\n\nNotice of Photography and Videography\n\nPlease be aware that photographs and/or videos will be taken during our Chamber events. You may be featured in these photos/videos. These materials are intended solely for the use of the Venice Area Chamber of Commerce and may be featured on our social media accounts\, website\, and/or in the Chamber's advertisements and promotional materials.
X-ALT-DESC;FMTTYPE=text/html:<p style="box-sizing: inherit\; -webkit-font-smoothing: antialiased\; margin: 0px 0px 15px\; padding: 0px\; border: 0px\; font-variant-numeric: inherit\; font-variant-east-asian: inherit\; font-variant-alternates: inherit\; font-variant-position: inherit\; font-stretch: inherit\; font-size: 16px\; line-height: inherit\; font-family: Poppins\, -apple-system\, BlinkMacSystemFont\, &quot\;Segoe UI&quot\;\, Roboto\, Oxygen-Sans\, Ubuntu\, Cantarell\, &quot\;Helvetica Neue&quot\;\, sans-serif\; font-optical-sizing: inherit\; font-kerning: inherit\; font-feature-settings: inherit\; font-variation-settings: inherit\; vertical-align: baseline\; color: rgb(98\, 98\, 98)\; background-color: rgba(255\, 255\, 255\, 0.6)\;"><span style="color:#000000\;"><strong><span style="font-size:12px\;"><span style="font-family:arial\;">Celebrating our commitment to the Venice community for 27 years!!!</span></span></strong></span><br />\n<span style="color:#000000\;">&nbsp\;<br />\n<span style="font-family:arial\;"><span style="font-size:12px\;"><strong>As a courtesy&nbsp\;to our host\, if you have registered for this event and can no longer attend\, please let us know as reservations have been made in your name.<br />\n<br />\nRefreshments will be served.</strong></span></span></span></p>\n\n<p style="padding: 0px\; margin: 8px 0px 0px\; word-break: break-word\; font-size: 14px\; line-height: var(--cib-type-body1-line-height)\; font-variation-settings: var(--cib-type-body1-font-variation-settings)\; color: rgba(0\, 0\, 0\, 0.894)\; font-family: SegoeUIVariable\, SegoeUI\, &quot\;Segoe UI&quot\;\, &quot\;Helvetica Neue&quot\;\, Helvetica\, &quot\;Microsoft YaHei&quot\;\, &quot\;Meiryo UI&quot\;\, Meiryo\, &quot\;Arial Unicode MS&quot\;\, sans-serif\; background-color: rgb(243\, 243\, 243)\;"><em>Notice of Photography and Videography</em></p>\n\n<p style="padding: 0px\; margin: 8px 0px 0px\; word-break: break-word\; font-size: 14px\; line-height: var(--cib-type-body1-line-height)\; font-variation-settings: var(--cib-type-body1-font-variation-settings)\; color: rgba(0\, 0\, 0\, 0.894)\; font-family: SegoeUIVariable\, SegoeUI\, &quot\;Segoe UI&quot\;\, &quot\;Helvetica Neue&quot\;\, Helvetica\, &quot\;Microsoft YaHei&quot\;\, &quot\;Meiryo UI&quot\;\, Meiryo\, &quot\;Arial Unicode MS&quot\;\, sans-serif\; background-color: rgb(243\, 243\, 243)\;"><em>Please be aware that photographs and/or videos will be taken during our Chamber events. You may be featured in these photos/videos. These materials are intended solely for the use of the Venice Area Chamber of Commerce and may be featured on our social media accounts\, website\, and/or in the Chamber&rsquo\;s advertisements and promotional materials.</em></p>\n\n<div>&nbsp\;</div>\n
LOCATION:Liberty Savings Bank 4103 S Tamiami Trail Venice\, FL 34293
UID:e.3379.8495
SEQUENCE:3
DTSTAMP:20260424T025710Z
URL:https://business.venicechamber.com/events/details/ribbon-cutting-liberty-savings-bank-november-20-2024-8495
END:VEVENT

END:VCALENDAR
