BEGIN:VCALENDAR
VERSION:2.0
PRODID:-//ChamberMaster//Event Calendar 2.0//EN
METHOD:PUBLISH
X-PUBLISHED-TTL:P3D
REFRESH-INTERVAL:P3D
CALSCALE:GREGORIAN
BEGIN:VEVENT
DTSTART:20200306T210000Z
DTEND:20200306T220000Z
X-MICROSOFT-CDO-ALLDAYEVENT:FALSE
SUMMARY:Ribbon Cutting Liberate Physicians of Venice March 6\, 2020
DESCRIPTION:Please join us for a Ribbon Cutting at Liberate Physicians of Venice!
X-ALT-DESC;FMTTYPE=text/html:<span style="font-size:18px\;">Please join us for a Ribbon Cutting at Liberate Physicians of Venice!</span><br />\n&nbsp\;
LOCATION:Liberate Physicians of Venice 2190 Tamiami Trail South Venice FL 34292
UID:e.3379.1877
SEQUENCE:3
DTSTAMP:20260424T233915Z
URL:https://business.venicechamber.com/events/details/ribbon-cutting-liberate-physicians-of-venice-march-6-2020-1877
END:VEVENT

END:VCALENDAR
