BEGIN:VCALENDAR
VERSION:2.0
PRODID:-//ChamberMaster//Event Calendar 2.0//EN
METHOD:PUBLISH
X-PUBLISHED-TTL:P3D
REFRESH-INTERVAL:P3D
CALSCALE:GREGORIAN
BEGIN:VEVENT
DTSTART:20220719T130000Z
DTEND:20220719T140000Z
X-MICROSOFT-CDO-ALLDAYEVENT:FALSE
SUMMARY:Ribbon Cutting Island Jetski and Watersports - July 19\, 2022
DESCRIPTION:Please join us for a Ribbon Cutting for Island Jetski and Watersports! \n\n\n\nIsland Jetski and Watersports is located at 801 Blackburn Point Road.  We hope you will join us in the celebration as World Champion Jetski Racer Eric Lagopoulos turns his passion investing in local jetski and watersports rental business.  \n\n\n\nThe Venice Area Chamber of Commerce is committed to the health and safety of its members.  We are monitoring and following the latest direction as outlined by local\, state\, and federal officials.  We recommend that all attendees review and follow the latest guidance on the COVID-19 pandemic from the Centers for Disease Control and Prevention (CDC):  https://www.cdc.gov/coronavirus/2019-ncov/index.html\n\n\n\n \n\n*IT IS POSSIBLE AT ANY OF OUR CHAMBER EVENTS WE WILL BE TAKING PHOTOS AND/OR VIDEOING\, AND THAT YOU MAY BE FEATURED IN THESE PHOTOS/VIDEOS. THESE PHOTOS/VIDEOS ARE FOR THE USE OF THE VENICE AREA CHAMBER OF COMMERCE ONLY AND COULD POSSIBLY BE FEATURED ON OUR SOCIAL MEDIA ACCOUNTS\, ON OUR WEBSITE\, AND/OR IN THE CHAMBER'S ADVERTISEMENTS AND PROMOTIONAL MATERIALS.
X-ALT-DESC;FMTTYPE=text/html:<span style="font-size:18px\;"><span style="font-family:comic sans ms\;"><strong>Please join us for a Ribbon Cutting for Island Jetski and Watersports!&nbsp\;</strong><br />\n<br />\n<strong style="box-sizing: border-box\; font-family: &quot\;Open Sans&quot\;\, Arial\, sans-serif\; margin: 0px\; padding: 0px\; border: 0px\; font-variant-numeric: inherit\; font-variant-east-asian: inherit\; font-stretch: inherit\; line-height: inherit\; vertical-align: baseline\; color: rgb(68\, 68\, 68)\;">Island Jetski and Watersports is&nbsp\;</strong><span style="color: rgb(68\, 68\, 68)\;">located at 801 Blackburn Point Road.&nbsp\; We hope you will join us in the celebration as World Champion Jetski Racer Eric Lagopoulos turns his passion investing in local jetski and watersports rental business.&nbsp\;&nbsp\;</span></span></span><br />\n<br />\n<strong><span style="font-family:calibri\,sans-serif\;"><span style="font-size:12.0pt\;">The Venice Area Chamber of Commerce is committed to the health and safety of its members.&nbsp\; We are monitoring and following the latest&nbsp\;direction as outlined&nbsp\;by local\, state\, and federal officials.&nbsp\; We recommend that all attendees review and follow the latest guidance on the COVID-19 pandemic from the Centers for Disease Control and Prevention (CDC):&nbsp\;&nbsp\;<u><a href="https://www.cdc.gov/coronavirus/2019-ncov/index.html"><span style="font-weight:normal\;">https://www.cdc.gov/coronavirus/2019-ncov/index.html</span></a></u></span></span></strong><br />\n<br />\n&nbsp\;<br />\n<em><strong><span style="text-transform:uppercase\;letter-spacing:1.5pt\;"><span style="color:black\;"><span style="font-family:helvetica\,sans-serif\;"><span style="font-size:7.0pt\;">*IT IS POSSIBLE AT ANY OF OUR CHAMBER EVENTS WE WILL BE TAKING PHOTOS AND/OR VIDEOING\, AND THAT YOU MAY BE FEATURED IN THESE PHOTOS/VIDEOS. THESE PHOTOS/VIDEOS ARE FOR THE USE OF THE VENICE AREA CHAMBER OF COMMERCE ONLY AND COULD POSSIBLY BE FEATURED ON OUR SOCIAL MEDIA ACCOUNTS\, ON OUR WEBSITE\, AND/OR IN THE CHAMBER&rsquo\;S ADVERTISEMENTS AND PROMOTIONAL MATERIALS.</span></span></span></span></strong></em><br />\n&nbsp\;
LOCATION:Island Jetski and Watersports 801 Blackburn Point Road Osprey FL 34229
UID:e.3379.6596
SEQUENCE:3
DTSTAMP:20260420T023634Z
URL:https://business.venicechamber.com/events/details/ribbon-cutting-island-jetski-and-watersports-july-19-2022-6596
END:VEVENT

END:VCALENDAR
