BEGIN:VCALENDAR
VERSION:2.0
PRODID:-//ChamberMaster//Event Calendar 2.0//EN
METHOD:PUBLISH
X-PUBLISHED-TTL:P3D
REFRESH-INTERVAL:P3D
CALSCALE:GREGORIAN
BEGIN:VEVENT
DTSTART:20240416T200000Z
DTEND:20240416T210000Z
X-MICROSOFT-CDO-ALLDAYEVENT:FALSE
SUMMARY:Ribbon Cutting Island Fin Poke Co. April 16\, 2024
DESCRIPTION:"We are not just a fast casual restaurant\, we have a "Mission" - We are committed to serving our community fresh real food that sustains our well being and we serve everyone with Love\, Respect and Kindness."\n\n\n\nRefreshments will be served.\n\n\n\n*IT IS POSSIBLE AT ANY OF OUR CHAMBER EVENTS WE WILL BE TAKING PHOTOS AND/OR VIDEOING\, AND THAT YOU MAY BE FEATURED IN THESE PHOTOS/VIDEOS. THESE PHOTOS/VIDEOS ARE FOR THE USE OF THE VENICE AREA CHAMBER OF COMMERCE ONLY AND COULD POSSIBLY BE FEATURED ON OUR SOCIAL MEDIA ACCOUNTS\, ON OUR WEBSITE\, AND/OR IN THE CHAMBER'S ADVERTISEMENTS AND PROMOTIONAL MATERIALS.
X-ALT-DESC;FMTTYPE=text/html:<p style="text-align: justify\;"><strong>&quot\;We are not just a fast casual restaurant\, we have a &quot\;Mission&quot\; - We are committed to serving our community fresh real food that sustains our well being and we serve everyone with Love\, Respect and Kindness.&quot\;</strong></p>\n\n<p><br />\n<strong>Refreshments will be served.</strong></p>\n\n<p style="text-align: justify\;"><br />\n<span style="font-size:11px\;"><em>*IT IS POSSIBLE AT ANY OF OUR CHAMBER EVENTS WE WILL BE TAKING PHOTOS AND/OR VIDEOING\, AND THAT YOU MAY BE FEATURED IN THESE PHOTOS/VIDEOS. THESE PHOTOS/VIDEOS ARE FOR THE USE OF THE VENICE AREA CHAMBER OF COMMERCE ONLY AND COULD POSSIBLY BE FEATURED ON OUR SOCIAL MEDIA ACCOUNTS\, ON OUR WEBSITE\, AND/OR IN THE CHAMBER&#39\;S ADVERTISEMENTS AND PROMOTIONAL MATERIALS.</em></span></p>\n
LOCATION:Island Fin Poke Co. 997 N Tamiami Trail Nokomis\, FL 34275
UID:e.3379.8430
SEQUENCE:3
DTSTAMP:20260424T160445Z
URL:https://business.venicechamber.com/events/details/ribbon-cutting-island-fin-poke-co-april-16-2024-8430
END:VEVENT

END:VCALENDAR
